BEGIN:VCALENDAR
VERSION:2.0
PRODID:-//ERTICO Newsroom - ECPv6.7.0//NONSGML v1.0//EN
CALSCALE:GREGORIAN
METHOD:PUBLISH
X-ORIGINAL-URL:https://erticonetwork.com
X-WR-CALDESC:Events for ERTICO Newsroom
REFRESH-INTERVAL;VALUE=DURATION:PT1H
X-Robots-Tag:noindex
X-PUBLISHED-TTL:PT1H
BEGIN:VTIMEZONE
TZID:Europe/Brussels
BEGIN:DAYLIGHT
TZOFFSETFROM:+0100
TZOFFSETTO:+0200
TZNAME:CEST
DTSTART:20170326T010000
END:DAYLIGHT
BEGIN:STANDARD
TZOFFSETFROM:+0200
TZOFFSETTO:+0100
TZNAME:CET
DTSTART:20171029T010000
END:STANDARD
END:VTIMEZONE
BEGIN:VEVENT
DTSTART;VALUE=DATE:20170928
DTEND;VALUE=DATE:20170929
DTSTAMP:20260419T201940
CREATED:20170825T081956Z
LAST-MODIFIED:20170825T084842Z
UID:10011520-1506556800-1506643199@erticonetwork.com
SUMMARY:CARTRE/ERTRAC Joint Stakeholder Meeting
DESCRIPTION:  \nThe next CARTRE/ERTRAC joint stakeholder meeting will take place at ERTICO’s Brussels Office on 28 September. It will be a joint workshop organised with ERTRAC\, to work further on the R&D challenges for CAD. Following the publication of the joint roadmap at the ITS European Congress in Strasbourg\, the meeting in September will cover Deployment\, research agenda; key players and network; harmonisation across EU member states; positions on thematic statements; alignment of 2040 visions. 
URL:https://erticonetwork.com/event/cartreertrac-joint-stakeholder-meeting/
CATEGORIES:CAD
ATTACH;FMTTYPE=image/png:https://erticonetwork.com/wp-content/uploads/2017/08/cad-ertrac.png
END:VEVENT
END:VCALENDAR