BEGIN:VCALENDAR
VERSION:2.0
PRODID:-//ERTICO Newsroom - ECPv6.7.0//NONSGML v1.0//EN
CALSCALE:GREGORIAN
METHOD:PUBLISH
X-WR-CALNAME:ERTICO Newsroom
X-ORIGINAL-URL:https://erticonetwork.com
X-WR-CALDESC:Events for ERTICO Newsroom
REFRESH-INTERVAL;VALUE=DURATION:PT1H
X-Robots-Tag:noindex
X-PUBLISHED-TTL:PT1H
BEGIN:VTIMEZONE
TZID:Europe/Brussels
BEGIN:DAYLIGHT
TZOFFSETFROM:+0100
TZOFFSETTO:+0200
TZNAME:CEST
DTSTART:20200329T010000
END:DAYLIGHT
BEGIN:STANDARD
TZOFFSETFROM:+0200
TZOFFSETTO:+0100
TZNAME:CET
DTSTART:20201025T010000
END:STANDARD
END:VTIMEZONE
BEGIN:VEVENT
DTSTART;TZID=Europe/Brussels:20201027T130000
DTEND;TZID=Europe/Brussels:20201027T143000
DTSTAMP:20260421T052245
CREATED:20200929T143540Z
LAST-MODIFIED:20200929T143540Z
UID:10011760-1603803600-1603809000@erticonetwork.com
SUMMARY:Webinar: How CAD and AVs can support the sustainability of transport
DESCRIPTION:Sustainable transport has three dimensions:\n(1) Environment; Does CAD reduce emissions or noise? Does it help us achieve the carbon neutrality goals? How does it affect land use and livability?\n(2) Economy: Do AVs promote sustainable modal choices? Do they improve the efficiency of the transport networks?\n(3) Society: How much will CAD improve safety? Does it improve public health or quality of life? What about social equity\, do AVs promote access to goods and services for as many people as possible? \nThis workshop starts with discussion on different mechanisms how CAD and AVs can support the sustainability of transport and what we know now about the impacts. It also discusses what kind of expectations and concerns different stakeholders have and whether the automated mobility can be made inclusive and environmentally friendly. The session is interactive\, and audience is invited to contribute via polls and discussion. \nDate: 27 October 2020 \nHost: Stéphane Dreher\, ERTICO – ITS Europe\nModerator: Satu Innamaa\, VTT\, Finland\nSpeakers:\nScott Smith\, U.S. DOT Volpe Center\, USA (Energy and Environmental Impacts of Automated Vehicles: Framework and Preliminary Results)\nToshimasa Nakagawa\, NILIM/MLIT\, Japan (Automated Driving Services in Rural Area)\nRune Elvik\, The Institute of Transport Economics (TØI)\, Norway (Safety impacts of CAD)\nSascha Westermann\, Hochbahn – ITS PMO of the City of Hamburg\, Germany (Impacts of CAD on livability of cities and sustainable modal choices) \n______________________________________ \nPlease register here. \nThis webinar is co-hosted by the ERTICO Academy and the EU co-funded ARCADE project.
URL:https://erticonetwork.com/event/webinar-how-cad-and-avs-can-support-the-sustainability-of-transport/
LOCATION:Online
CATEGORIES:CAD
ATTACH;FMTTYPE=image/png:https://erticonetwork.com/wp-content/uploads/2020/09/WEBINAR.png
END:VEVENT
END:VCALENDAR