BEGIN:VCALENDAR
VERSION:2.0
PRODID:-//ERTICO Newsroom - ECPv6.7.0//NONSGML v1.0//EN
CALSCALE:GREGORIAN
METHOD:PUBLISH
X-ORIGINAL-URL:https://erticonetwork.com
X-WR-CALDESC:Events for ERTICO Newsroom
REFRESH-INTERVAL;VALUE=DURATION:PT1H
X-Robots-Tag:noindex
X-PUBLISHED-TTL:PT1H
BEGIN:VTIMEZONE
TZID:Europe/Brussels
BEGIN:DAYLIGHT
TZOFFSETFROM:+0100
TZOFFSETTO:+0200
TZNAME:CEST
DTSTART:20210328T010000
END:DAYLIGHT
BEGIN:STANDARD
TZOFFSETFROM:+0200
TZOFFSETTO:+0100
TZNAME:CET
DTSTART:20211031T010000
END:STANDARD
END:VTIMEZONE
BEGIN:VEVENT
DTSTART;TZID=Europe/Brussels:20211004T080000
DTEND;TZID=Europe/Brussels:20211004T170000
DTSTAMP:20260424T183131
CREATED:20211004T093159Z
LAST-MODIFIED:20211004T093159Z
UID:10011816-1633334400-1633366800@erticonetwork.com
SUMMARY:TN-ITS GOES URBAN: DISCOVER THE WORLD OF MAP AT ITS WORLD CONGRESS!
DESCRIPTION:Are you a city representative interested in map data updates? Are you an enthusiast of maps and want to discover (or learn more!) on how to keep them always up-to-date? Our event “TN-ITS GOes urban” is here for you! \nDuring the event our experts will guide you to discover how TN-ITS can help your city to share its static and regulatory data\, for a better city navigation and traffic management. The event will take place on 11 October 2021 from 12:00 till 14:00 CET at the ITS World Congress in Hamburg – Germany. To take part\, you can register here. \nBut what if you cannot be in Hamburg? No problem\, you still have the chance to follow remotely by registering at this link. \nFind below the agenda of the event:
URL:https://erticonetwork.com/event/tn-its-goes-urban-discover-the-world-of-map-at-its-world-congress/
CATEGORIES:CAD
ATTACH;FMTTYPE=image/png:https://erticonetwork.com/wp-content/uploads/2021/10/TN-ITS-GOes-urban.png
END:VEVENT
END:VCALENDAR