BEGIN:VCALENDAR
VERSION:2.0
PRODID:-//ERTICO Newsroom - ECPv6.7.0//NONSGML v1.0//EN
CALSCALE:GREGORIAN
METHOD:PUBLISH
X-WR-CALNAME:ERTICO Newsroom
X-ORIGINAL-URL:https://erticonetwork.com
X-WR-CALDESC:Events for ERTICO Newsroom
REFRESH-INTERVAL;VALUE=DURATION:PT1H
X-Robots-Tag:noindex
X-PUBLISHED-TTL:PT1H
BEGIN:VTIMEZONE
TZID:Europe/Brussels
BEGIN:DAYLIGHT
TZOFFSETFROM:+0100
TZOFFSETTO:+0200
TZNAME:CEST
DTSTART:20220327T010000
END:DAYLIGHT
BEGIN:STANDARD
TZOFFSETFROM:+0200
TZOFFSETTO:+0100
TZNAME:CET
DTSTART:20221030T010000
END:STANDARD
END:VTIMEZONE
BEGIN:VEVENT
DTSTART;TZID=Europe/Brussels:20220920T080000
DTEND;TZID=Europe/Brussels:20220921T170000
DTSTAMP:20260423T030305
CREATED:20220913T132935Z
LAST-MODIFIED:20220914T110704Z
UID:10011858-1663660800-1663779600@erticonetwork.com
SUMMARY:SUNRISE kick-off meeting
DESCRIPTION:The new SUNRISE – Safety assUraNce fRamework for connected\, automated mobIlity SystEms – project is one of the latest actions on the Cooperative\, Connected\, and Automated Mobility (CCAM) sector launched by the European Commission through its executive agency\, CINEA. ERTICO will participate in the kick-off meeting that will take place in Brussels on 20-21 September.  \nThe consortium coordinated by IDIADA and consisting of 27 partners will present the way forward and will delineate the coordination plan for the next months. At the event\, stakeholders and involved partners will have the opportunity to gather information\, engage in debates and coordinate their actions for the next months. The scope of the project is to define\, implement and demonstrate the building blocks of safety assurance technologies and systems. It also aims at defining a harmonised approach to enable the massive deployment of highly automated vehicles. \nThe project will build upon HEADSTART\, a previous EU-funded project\, as well as on other initiatives\, and will develop and demonstrate a commonly accepted\, extensible Safety Assurance Framework for the test and safety validation of a varied scope of CCAM systems. \nThis will be achieved by: \n\nBringing the needs of heterogeneous CCAM use cases.\nDefining a scenario-based database framework that will broaden the HEADSTART methodology.\nHolistically addressing the CCAM test scenario generation.\nPreparing the required tools for comprehensive testing – virtual and physical – taking into account robustness\, scalability\, interoperability\, quality and standardization.\nIntegrating functional safety and cybersecurity.\nInvolving the use cases from the initial stages\, acting as a guiding principle within the project.\n\nThe long-term goal of the SUNRISE project is to accelerate the safe deployment of innovative CCAM technologies and systems for passengers and goods by creating a demonstrable and positive impact on safety. This is in line with  EU’s long-term goal of moving close to zero fatalities and serious injuries by 2050 (Vision Zero)\, and the resilience of road & transport systems. SUNRISE will work closely with CCAM stakeholders as policymakers\, regulators\, consumer testing\, user associations and all relevant stakeholders. \n  \nSUNRISE project has received funding from the European Union’s HORIZON Research and Innovation Actions under grant agreement No 101069573.
URL:https://erticonetwork.com/event/sunrise-kick-off-meeting/
CATEGORIES:CAD
ATTACH;FMTTYPE=image/png:https://erticonetwork.com/wp-content/uploads/2022/09/SUNRISE-kickoff-meeting-1.png
END:VEVENT
BEGIN:VEVENT
DTSTART;TZID=Europe/Brussels:20220929T110000
DTEND;TZID=Europe/Brussels:20220929T120000
DTSTAMP:20260423T030305
CREATED:20220926T104331Z
LAST-MODIFIED:20220926T104331Z
UID:10011861-1664449200-1664452800@erticonetwork.com
SUMMARY:5G-MOBIX final webinar: results & recommendations
DESCRIPTION:Webinar 5G for CAM in Cross-border environments\nThe 5G-MOBIX EC project’s trials have assessed the added value of 5G connectivity for connected and Automated Mobility (CAM) services and functionalities in cross-border conditions. This webinar will present a comprehensive overview of the 5G-MOBIX evaluation results and recommendations. \nParticipants will get insights into the recent key findings stemming from the extensive experimental activities of the 5G-MOBIX project in two Cross-Border Corridors\, Greece-Turkey and Spain-Portugal\, as well as four European inter-PLMN trial sites (Finland\, Netherlands\, France\, Germany) and two Asian ones (China\, S. Korea). \nYou can register here.
URL:https://erticonetwork.com/event/5g-mobix-final-webinar-results-recommendations/
CATEGORIES:CAD,Industry Events
ATTACH;FMTTYPE=image/jpeg:https://erticonetwork.com/wp-content/uploads/2022/09/5gmobix_ES-PT-interview.jpg
END:VEVENT
END:VCALENDAR