BEGIN:VCALENDAR
VERSION:2.0
PRODID:-//ERTICO Newsroom - ECPv6.7.0//NONSGML v1.0//EN
CALSCALE:GREGORIAN
METHOD:PUBLISH
X-ORIGINAL-URL:https://erticonetwork.com
X-WR-CALDESC:Events for ERTICO Newsroom
REFRESH-INTERVAL;VALUE=DURATION:PT1H
X-Robots-Tag:noindex
X-PUBLISHED-TTL:PT1H
BEGIN:VTIMEZONE
TZID:Europe/Brussels
BEGIN:DAYLIGHT
TZOFFSETFROM:+0100
TZOFFSETTO:+0200
TZNAME:CEST
DTSTART:20150329T010000
END:DAYLIGHT
BEGIN:STANDARD
TZOFFSETFROM:+0200
TZOFFSETTO:+0100
TZNAME:CET
DTSTART:20151025T010000
END:STANDARD
END:VTIMEZONE
BEGIN:VEVENT
DTSTART;VALUE=DATE:20151001
DTEND;VALUE=DATE:20151003
DTSTAMP:20260421T015514
CREATED:20150907T131419Z
LAST-MODIFIED:20150907T131419Z
UID:10011349-1443657600-1443830399@erticonetwork.com
SUMMARY:PRAISE seminars on work-related road safety
DESCRIPTION:The European Transport Safety Council (ETSC)\, together with the Fundación MAPFRE have the pleasure of inviting you to the next PRAISE seminars on work-related road safety to be held in Madrid on Thursday 1st October and Zaragoza on Friday 2nd October. \nThe seminars will mainly focus on success stories in relation to fleet and road-related risk management\, and will feature businesses and experts from across Europe. \nInterpretation English-Spanish will be provided. \nFor more information\, click here
URL:https://erticonetwork.com/event/praise-seminars-on-work-related-road-safety/
LOCATION:Reims
CATEGORIES:Safe ITS
ATTACH;FMTTYPE=image/jpeg:https://erticonetwork.com/wp-content/uploads/2015/09/M-30_Madrid_Spain_03-720x540.jpg
END:VEVENT
BEGIN:VEVENT
DTSTART;TZID=Europe/Brussels:20151007T083000
DTEND;TZID=Europe/Brussels:20151007T130000
DTSTAMP:20260421T015514
CREATED:20150601T124319Z
LAST-MODIFIED:20150728T113656Z
UID:10011324-1444206600-1444222800@erticonetwork.com
SUMMARY:BigDataEurope Workshop at Bordeaux ITS World Congress
DESCRIPTION:The workshop focuses on Big Data in the H2020 Societal Challenge Smart\, green and integrated transport. Participants to this workshop will have the opportunity to influence the design\, and ultimate benefit from the Big Data platform that the BigDataEurope project will deliver. This platform aims to facilitate Big Data usage in real world examples\, and will consist of an architecture\, components\, guidelines and best practices to make the best of Big Data in this case in the setting of transport. \nThe workshop will focus on the elicitation of requirements for Big Data management within the intelligent transport domain. \nThe interactive workshop will consist of three sessions with keynote presentations on the topics of: \n\nBigDataEurope and existing Data-centric initiatives in Transport\nExisting and potential Big Data use-cases and applications in Transport\nTools and technologies Technical requirements for a Big Data Platform in Transport\n\nThe presentations will be followed by a one hour break-out session\, where participants can join one of the three groups on Policy\, Data and Technology\, or Business.  The chairmen of the three break-out groups will report to the Plenary Session and the workshop will be rounded off with a  final Q&A session. \nTo register for the workshop please click through to the ITS World Congress website. \n\nIn case you have already registered for the Congress\, you can modify your registration and add the workshop to your list of associated events.\nIn case you are not an ITS Congress participant\, you will need to follow the Congress registration process and select the BigDataEurope workshop you will attend. Under the tab ‘Registration Category‘ please select ‘Exhibition Visitor‘ in the drop-down menu. You will receive your ITS Congress registration badge at the entrance of the Congress that will give you access to the BigDataEurope workshop.\n\nRegistration to this workshop is for free for both Congress and non-Congress participants. \nThe workshop targets European stakeholders to participate in the definition of the Big Data needs and requirements for the European intelligent transport domain. \nThe workshop is the first in a series of three workshops\, the following two foreseen to take place in 2016 and 2017. The future workshops will focus on the alignment and improvement of the specifications\, and on the evaluation of project technologies on selected use cases. \n  \nPreliminary Agenda \n9:00 Official Welcome (Maxime Flament\, ERTICO – ITS Europe) \n9:15 Opening Session \n\n9:15-9:30: Big Data for Transport – Why Does it Matter? (Paul Timmers\, European Commission)\n9:30-9:40: What can big data do for transport? (Sören Auer\, University of Bonn)\n\n9:40 Session 1: Data-centric Initiatives in Transport \n\n9:40-9:50: What are the existing large data source in road transport\,\nCERTH literature review (Evangelos Mitsakis\, CERTH)\n9:50 – 10:00: The use of big data for public transport performance measurement (Roberto Baldessari\, NEC)\n10:00 – 10:15: The role of social media in transport (Dave Marples\, Technolution)\n\n10:15-10:25: Coffee break \n10:25: Session 2: Big Data Use-cases in Transport \n\n10:25-10:35 Real-time Traffic information and traffic management (Nick Cohn\, TomTom)\n10:35-10:45: Open Logistics (German Herrero\, ATOS)\n10:45-10:55 How to deal with all the data that is generated by the vehicle sensors? (Sean Gaines\, Vicomtech)\n\n10:55: Session 3: Technologies and Tools used and envisaged \n\n10:55 – 11:05: Existing tools and technologies used across other sectors (Simon Scerri\, University of Bonn)\n11:05-11:15: Data Analyses in Transport\n\n11:20-12:20 Breakout sessions (Business\, Policy\, Data & Technology) \n\nLeader of the Business group: Dave Marples\, Technolution\nLeader of the Policy group: Maxime Flament\, ERTICO\nLeader of the Data & Technology group: Sean Gaines\, Vicomtech\n\n12:30 Breakout session reprots12:20 Coffee break \n12:55 Closing note \n  \nWe further invite you to: \n\nJoin the discussion on the BDE-Smart\, Green and Integrated Transport Community Group https://www.w3.org/community/bde-transport/\nSubscribe to the BigDataEurope Newsletter\nFollow us on the Social Media (Twitter\, LinkedIn\, SlideShare\, Flickr)
URL:https://erticonetwork.com/event/bigdataeurope-workshop-at-bordeaux-its-world-congress/
LOCATION:Palais de Congres de Bordeaux\, Bordeaux\, France
CATEGORIES:Safe ITS
GEO:44.837789;-0.57918
END:VEVENT
END:VCALENDAR