BEGIN:VCALENDAR
VERSION:2.0
PRODID:-//ERTICO Newsroom - ECPv6.7.0//NONSGML v1.0//EN
CALSCALE:GREGORIAN
METHOD:PUBLISH
X-ORIGINAL-URL:https://erticonetwork.com
X-WR-CALDESC:Events for ERTICO Newsroom
REFRESH-INTERVAL;VALUE=DURATION:PT1H
X-Robots-Tag:noindex
X-PUBLISHED-TTL:PT1H
BEGIN:VTIMEZONE
TZID:Europe/Brussels
BEGIN:DAYLIGHT
TZOFFSETFROM:+0100
TZOFFSETTO:+0200
TZNAME:CEST
DTSTART:20170326T010000
END:DAYLIGHT
BEGIN:STANDARD
TZOFFSETFROM:+0200
TZOFFSETTO:+0100
TZNAME:CET
DTSTART:20171029T010000
END:STANDARD
END:VTIMEZONE
BEGIN:VEVENT
DTSTART;VALUE=DATE:20171012
DTEND;VALUE=DATE:20171013
DTSTAMP:20260424T063027
CREATED:20170908T143310Z
LAST-MODIFIED:20170908T143310Z
UID:10011521-1507766400-1507852799@erticonetwork.com
SUMMARY:NeMo Stakeholder Forum Conference
DESCRIPTION:Registrations are now open for the NeMo Stakeholder Forum Conference. \nThis event will take place on Thursday 12 October 2017 at IBM premises in Ehningen near Stuttgart. \nThe Conference follows the International Electric Vehicle Symposium and Exhibition (EVS30) to be held in the nearby Stuttgart-Messe the over the preceding three days (9 to 11 October). We invite experts and stakeholders in the area of Electromobility to learn more about the developments in the first year of this 3-year project\, and specifically the: \n\nSteps taken in building an Electromobility Hyper-Network with the basic aim to increase interoperability of services for electric vehicles across Europe\nSolutions proposed for an Open European Inter-Roaming Protocol\, which will allow Electromobility Roaming Platforms to connect to each other.\n\nParticipants will have the opportunity to liaise with project partners and other Electromobility experts\, to actively contribute to the discussions and provide valuable feedback in order for NeMo developments to meet the needs of all stakeholders\, i.e. users\, service providers\, industry\, infrastructure operators and public authorities. \nA developer session will be held in parallel to the Stakeholder Forum Conference. This aims to familiarize interested IT developers and other stakeholders with the tools being planned for developing B2B and B2C applications in the ecosystem of Electromobility. The participants will also have the chance to learn more about the NeMo Service development environments and Hyper-Network and provide their valuable feedback. Further information is available here. \nThe NeMo conference is free to attend but registration is required. \nBefore registering\, please see here for the full agenda and travel details. \nPlease register here for either the Stakeholder Conference or the Developer session (not both). Participants of both events will attend a common introductory session at the start of the event\, which will present a general overview of the NeMo project.
URL:https://erticonetwork.com/event/nemo-stakeholder-forum-conference/
CATEGORIES:Clean ITS
END:VEVENT
BEGIN:VEVENT
DTSTART;VALUE=DATE:20171012
DTEND;VALUE=DATE:20171013
DTSTAMP:20260424T063027
CREATED:20170908T143616Z
LAST-MODIFIED:20170908T143616Z
UID:10011522-1507766400-1507852799@erticonetwork.com
SUMMARY:NeMo developer session on Interoperable Electromobility Services
DESCRIPTION:The NeMo project is pleased to announce the organisation of a developer session focusing on tools for the development of B2B and B2C applications in the ecosystem of Electromobility. The session will be held in conjunction with the NeMo Stakeholder Forum Conference\, on Thursday 12 October 2017 at IBM premises in Ehningen\, near Stuttgart. \nNeMo developer session targets to attract IT Developers and other stakeholders with basic aim to familiarise participants with the NeMo Service development environments and Hyper-Network. The developer session is the first of a series of NeMo events that are expected to provide interested participants with the necessary information and tools for their potential participation at the NeMo Hackathon\, which is planned towards end of the NeMo project in 2019. \nThe NeMo developer session is free to attend but registration is required. \nBefore registering\, please see  here for the full agenda (Conference and Developer Session) and travel details. \nAs developer session and Stakeholder Forum Conference are planned to be held in parallel\, please register  here for either the Developer session or the Stakeholder Conference (not both).
URL:https://erticonetwork.com/event/nemo-developer-session-interoperable-electromobility-services/
CATEGORIES:Clean ITS
END:VEVENT
END:VCALENDAR