BEGIN:VCALENDAR
VERSION:2.0
PRODID:-//ERTICO Newsroom - ECPv6.7.0//NONSGML v1.0//EN
CALSCALE:GREGORIAN
METHOD:PUBLISH
X-WR-CALNAME:ERTICO Newsroom
X-ORIGINAL-URL:https://erticonetwork.com
X-WR-CALDESC:Events for ERTICO Newsroom
REFRESH-INTERVAL;VALUE=DURATION:PT1H
X-Robots-Tag:noindex
X-PUBLISHED-TTL:PT1H
BEGIN:VTIMEZONE
TZID:Europe/Brussels
BEGIN:DAYLIGHT
TZOFFSETFROM:+0100
TZOFFSETTO:+0200
TZNAME:CEST
DTSTART:20170326T010000
END:DAYLIGHT
BEGIN:STANDARD
TZOFFSETFROM:+0200
TZOFFSETTO:+0100
TZNAME:CET
DTSTART:20171029T010000
END:STANDARD
END:VTIMEZONE
BEGIN:VEVENT
DTSTART;VALUE=DATE:20171020
DTEND;VALUE=DATE:20171022
DTSTAMP:20260425T203840
CREATED:20171005T142018Z
LAST-MODIFIED:20171005T142018Z
UID:10011526-1508457600-1508630399@erticonetwork.com
SUMMARY:ECG Conference 2017
DESCRIPTION:ECG – The Association of European Vehicle Logistics is organising its annual conference on Digital revolutions in political turmoil. Established as a non-profit making organisation to promote the interests of the car carrier operators\, ECG is now the established platform for the automotive logistics sector bringing together logistics service providers\, manufacturer logistics managers and suppliers to the sector. \nThe conference will host speakers from the logistics sector and the European Commission. The agenda of the event is available via this link.
URL:https://erticonetwork.com/event/ecg-conference-2017/
CATEGORIES:Industry Events
END:VEVENT
END:VCALENDAR