BEGIN:VCALENDAR
VERSION:2.0
PRODID:-//ERTICO Newsroom - ECPv6.7.0//NONSGML v1.0//EN
CALSCALE:GREGORIAN
METHOD:PUBLISH
X-ORIGINAL-URL:https://erticonetwork.com
X-WR-CALDESC:Events for ERTICO Newsroom
REFRESH-INTERVAL;VALUE=DURATION:PT1H
X-Robots-Tag:noindex
X-PUBLISHED-TTL:PT1H
BEGIN:VTIMEZONE
TZID:Europe/Brussels
BEGIN:DAYLIGHT
TZOFFSETFROM:+0100
TZOFFSETTO:+0200
TZNAME:CEST
DTSTART:20180325T010000
END:DAYLIGHT
BEGIN:STANDARD
TZOFFSETFROM:+0200
TZOFFSETTO:+0100
TZNAME:CET
DTSTART:20181028T010000
END:STANDARD
END:VTIMEZONE
BEGIN:VEVENT
DTSTART;VALUE=DATE:20180222
DTEND;VALUE=DATE:20180223
DTSTAMP:20260422T053723
CREATED:20171129T155827Z
LAST-MODIFIED:20180215T114622Z
UID:10011540-1519257600-1519343999@erticonetwork.com
SUMMARY:European Startup Prize Awards
DESCRIPTION:The European Startup Prize for mobility is a co-funded initiative of the European Parliament under the leadership of the TRAN Committee and MEP Karima Delli (Chair of the Committee)\, the Boston Consulting Group (BCG) and via iD that offers mobility startups the opportunity to be the future European champions of sustainable mobility. \nERTICO is proud to collaborate with the Parliament in this initiative\, which will give the opportunity to 10 startups to pitch their services to well-established companies. \nThis project grants visibility through a tour of main European capitals to meet potential customers\, investors\, business accelerators and local partners for the ten selected startups. In addition to the tour\, a dedicated business and legal coaching program will be provided by The Boston Consulting Group and other partners.
URL:https://erticonetwork.com/event/european-startup-prize-awards/
LOCATION:Bibliothèque Solvay\, Parc Léopold Rue Belliard 137 – 1040 Bruxelles\, Brussels
CATEGORIES:Policy & Strategy
ATTACH;FMTTYPE=image/jpeg:https://erticonetwork.com/wp-content/uploads/2017/11/EUSP-linkedin-cover-1536x768-e1511880465936.jpg
GEO:50.8387461;4.3802378
X-APPLE-STRUCTURED-LOCATION;VALUE=URI;X-ADDRESS=Bibliothèque Solvay Parc Léopold Rue Belliard 137 – 1040 Bruxelles Brussels;X-APPLE-RADIUS=500;X-TITLE=Parc Léopold Rue Belliard 137 – 1040 Bruxelles:geo:4.3802378,50.8387461
END:VEVENT
END:VCALENDAR