BEGIN:VCALENDAR
VERSION:2.0
PRODID:-//ERTICO Newsroom - ECPv6.7.0//NONSGML v1.0//EN
CALSCALE:GREGORIAN
METHOD:PUBLISH
X-WR-CALNAME:ERTICO Newsroom
X-ORIGINAL-URL:https://erticonetwork.com
X-WR-CALDESC:Events for ERTICO Newsroom
REFRESH-INTERVAL;VALUE=DURATION:PT1H
X-Robots-Tag:noindex
X-PUBLISHED-TTL:PT1H
BEGIN:VTIMEZONE
TZID:Europe/Brussels
BEGIN:DAYLIGHT
TZOFFSETFROM:+0100
TZOFFSETTO:+0200
TZNAME:CEST
DTSTART:20200329T010000
END:DAYLIGHT
BEGIN:STANDARD
TZOFFSETFROM:+0200
TZOFFSETTO:+0100
TZNAME:CET
DTSTART:20201025T010000
END:STANDARD
END:VTIMEZONE
BEGIN:VEVENT
DTSTART;VALUE=DATE:20201130
DTEND;VALUE=DATE:20201202
DTSTAMP:20260423T034054
CREATED:20201118T080226Z
LAST-MODIFIED:20201118T080226Z
UID:10011770-1606694400-1606867199@erticonetwork.com
SUMMARY:H2020 Road Transport Research European Conference
DESCRIPTION:More than 70 projects dealing with road transport research funded under the Horizon 2020 Transport programme\, will present their results at the 4th edition of the H2020 Road Transport Research European Conference (#H2020RTR20). Amongst these\, ERTICO activities SAFE STRIP\, ELVITEN and C-MobILE will have the opportunity to share their results and advancments. \nCo-organised by the European Commission\, ERTRAC and EGVIA \, the H2020 Road Transport Research European Conference brings together leading-edge projects from road transport research to discuss their results\, and reflect on the future of the fields covered by their research. The participating projects this year cover a number of areas\, including green and electric vehicles; automated transport; safe\, efficient\, and resilient infrastructure; clean\, inclusive\, and safe mobility. \n\nRegistration\nDraft Agenda
URL:https://erticonetwork.com/event/h2020-road-transport-research-european-conference/
LOCATION:Online
CATEGORIES:Policy & Strategy,Smart ITS
ATTACH;FMTTYPE=image/jpeg:https://erticonetwork.com/wp-content/uploads/2020/11/H2020RTR.jpg
END:VEVENT
END:VCALENDAR