BEGIN:VCALENDAR
VERSION:2.0
PRODID:-//ERTICO Newsroom - ECPv6.7.0//NONSGML v1.0//EN
CALSCALE:GREGORIAN
METHOD:PUBLISH
X-WR-CALNAME:ERTICO Newsroom
X-ORIGINAL-URL:https://erticonetwork.com
X-WR-CALDESC:Events for ERTICO Newsroom
REFRESH-INTERVAL;VALUE=DURATION:PT1H
X-Robots-Tag:noindex
X-PUBLISHED-TTL:PT1H
BEGIN:VTIMEZONE
TZID:Europe/Brussels
BEGIN:DAYLIGHT
TZOFFSETFROM:+0100
TZOFFSETTO:+0200
TZNAME:CEST
DTSTART:20210328T010000
END:DAYLIGHT
BEGIN:STANDARD
TZOFFSETFROM:+0200
TZOFFSETTO:+0100
TZNAME:CET
DTSTART:20211031T010000
END:STANDARD
END:VTIMEZONE
BEGIN:VEVENT
DTSTART;TZID=Europe/Brussels:20210930T113000
DTEND;TZID=Europe/Brussels:20210930T163000
DTSTAMP:20260426T051851
CREATED:20210920T141350Z
LAST-MODIFIED:20210920T141350Z
UID:10011813-1633001400-1633019400@erticonetwork.com
SUMMARY:SHOW 2nd pan-European workshop
DESCRIPTION:On 30 September\, from 11:30 am till 4:30 pm CET\, SHOW will host its 2nd Pan-European Workshop\n“Which path for a meaningful\, sustainable and feasible CCAM in Europe?” \nAfter 1\,5 years and in preparation of the demonstrations next year\, the SHOW partners have developed vehicle technologies\, physical and digital infrastructure\, business models\, impact assessment methods\, as well as added-value services based on AI and Big Data. But the project has also unveiled challenges that need to be addressed in order to ensure a meaningful deployment of CCAV in terms of technical feasibility and sustainability. \nThe workshop represents an unique opportunity to discuss some of the most pressing challenges and debates that are arising. During the event\, speakers from European and national governmental bodies\, industry\, public authorities and academia will use their concrete experiences from the SHOW project and other initiatives to discuss questions\, such as : \n\nWhat is missing in Europe in terms of regulations\, infrastructure\, manufacturing industries\, or even citizens awareness to achieve a CCAM that we would define as meaningful?\nHow do we want to position Europe in comparison with the strong concurrence coming from the USA or several countries from the Asia-Pacific region?\n\nRegistrations are now open! Click here to secure your spot\nWhen registering\, please indicate whether you would like to attend the event in person or online.
URL:https://erticonetwork.com/event/show-2nd-pan-european-workshop/
CATEGORIES:Policy & Strategy
ATTACH;FMTTYPE=image/jpeg:https://erticonetwork.com/wp-content/uploads/2021/09/SHOW-banner-sept-scaled.jpg
END:VEVENT
END:VCALENDAR