BEGIN:VCALENDAR
VERSION:2.0
PRODID:-//ERTICO Newsroom - ECPv6.7.0//NONSGML v1.0//EN
CALSCALE:GREGORIAN
METHOD:PUBLISH
X-WR-CALNAME:ERTICO Newsroom
X-ORIGINAL-URL:https://erticonetwork.com
X-WR-CALDESC:Events for ERTICO Newsroom
REFRESH-INTERVAL;VALUE=DURATION:PT1H
X-Robots-Tag:noindex
X-PUBLISHED-TTL:PT1H
BEGIN:VTIMEZONE
TZID:Europe/Brussels
BEGIN:DAYLIGHT
TZOFFSETFROM:+0100
TZOFFSETTO:+0200
TZNAME:CEST
DTSTART:20240331T010000
END:DAYLIGHT
BEGIN:STANDARD
TZOFFSETFROM:+0200
TZOFFSETTO:+0100
TZNAME:CET
DTSTART:20241027T010000
END:STANDARD
END:VTIMEZONE
BEGIN:VEVENT
DTSTART;TZID=Europe/Brussels:20240402T090000
DTEND;TZID=Europe/Brussels:20240405T233000
DTSTAMP:20260423T185951
CREATED:20240326T120551Z
LAST-MODIFIED:20240327T101352Z
UID:10011957-1712048400-1712359800@erticonetwork.com
SUMMARY:Connecting Europe Days 2024
DESCRIPTION:Organised on 2-5 April in Brussels by the European Commission\, the European Climate\, Infrastructure and Environment Executive Agency\, and the Belgian Presidency of the EU\, the Connecting Europe Days will gather politicians\, financial institutions\, industry representatives\, transport stakeholders\, and the European Commission to discuss and exchange ideas on achieving a fully decarbonised\, resilient\, seamless\, and digital transport network across Europe. The event will evaluate progress towards the ambitious targets outlined in the EU Green Deal and the Sustainable and Smart Mobility Strategy. \nA key focus will be on the updated trans-European transport network (TEN-T) Regulation\, which introduces nine new European Transport Corridors and a restructured governance system overseen by eleven European TEN-T Coordinators. Discussions will also explore future funding mechanisms for infrastructure projects and enhancing infrastructure climate resilience. \nConsidering challenges to transport connectivity\, the conference will explore vulnerabilities in the EU Single Market. Sessions will examine the EU transport network’s role in maintaining connectivity with neighbouring countries and its ability to withstand external threats while ensuring preparedness and resilience. \nTwo ERTICO projects\, PoDIUM and ENVELOPE will be showcased at the event. Discover more about these projects at booth 38 in the exhibition area. Christian Kleine\, President of the TN-ITS platform\, joins a panel discussion on “Data-Driven Mobility and Transport Policy: The Role of Artificial Intelligence (AI).” The session will delve into key areas like AI\, data sharing\, interoperability\, and data quality control. The DFRS platform marks a significant milestone at the event with the signing of a Collaboration Agreement with TISA.
URL:https://erticonetwork.com/event/connecting-europe-days-2024/
CATEGORIES:Industry Events,Policy & Strategy
ATTACH;FMTTYPE=image/png:https://erticonetwork.com/wp-content/uploads/2024/03/banner.png
END:VEVENT
END:VCALENDAR