BEGIN:VCALENDAR
VERSION:2.0
PRODID:-//ERTICO Newsroom - ECPv6.7.0//NONSGML v1.0//EN
CALSCALE:GREGORIAN
METHOD:PUBLISH
X-WR-CALNAME:ERTICO Newsroom
X-ORIGINAL-URL:https://erticonetwork.com
X-WR-CALDESC:Events for ERTICO Newsroom
REFRESH-INTERVAL;VALUE=DURATION:PT1H
X-Robots-Tag:noindex
X-PUBLISHED-TTL:PT1H
BEGIN:VTIMEZONE
TZID:Europe/Brussels
BEGIN:DAYLIGHT
TZOFFSETFROM:+0100
TZOFFSETTO:+0200
TZNAME:CEST
DTSTART:20140330T010000
END:DAYLIGHT
BEGIN:STANDARD
TZOFFSETFROM:+0200
TZOFFSETTO:+0100
TZNAME:CET
DTSTART:20141026T010000
END:STANDARD
END:VTIMEZONE
BEGIN:VEVENT
DTSTART;TZID=Europe/Brussels:20140901T220000
DTEND;TZID=Europe/Brussels:20140902T215959
DTSTAMP:20260419T165736
CREATED:20140620T130800Z
LAST-MODIFIED:20140620T130800Z
UID:10011126-1409608800-1409695199@erticonetwork.com
SUMMARY:eCall futures
DESCRIPTION:eCall futures \nBrussels (Belgium)\, Tuesday 2 September 2014
URL:https://erticonetwork.com/event/ecall-futures/
CATEGORIES:ERTICO
END:VEVENT
BEGIN:VEVENT
DTSTART;TZID=Europe/Brussels:20140903T080000
DTEND;TZID=Europe/Brussels:20140903T143000
DTSTAMP:20260419T165737
CREATED:20140708T143123Z
LAST-MODIFIED:20140708T143123Z
UID:10011137-1409731200-1409754600@erticonetwork.com
SUMMARY:eCall Way Forward PSAP Workshop
DESCRIPTION:Venue: ERTICO – ITS Europe\, Blue Tower\, Brussels \n3rd September 2014\, 10:00-16:30 \nPlease register through the following link
URL:https://erticonetwork.com/event/ecall-way-forward-psap-workshop/
CATEGORIES:ERTICO
END:VEVENT
BEGIN:VEVENT
DTSTART;TZID=Europe/Brussels:20140907T070000
DTEND;TZID=Europe/Brussels:20140907T133000
DTSTAMP:20260419T165737
CREATED:20140521T125911Z
LAST-MODIFIED:20140521T125911Z
UID:10011121-1410073200-1410096600@erticonetwork.com
SUMMARY:FOT-Net Data International Workshop on Data Sharing
DESCRIPTION:FOT-Net Data International Workshop on Data Sharingorganised in collaboration with the U.S. Department of Transportation (DOT)COBO Congress Centre (ITS Congress Venue)\, room 140A\, DetroitSunday 7 September 201409:00-15:30(before the ITS World Congress opening ceremony) \nFree of charge\, but please register at: www.fot-net.eu \nThis workshop aims to exchange information on FOTs and data sharing between the three regions (Europe\, Asia-Pacific and North America)\, discuss problems and solutions for data sharing and provide recommendations for a global data sharing framework. In this workshop we will have discussions in small groups\, addressing either more technical questions or more organisational questions. This workshop is meant for everyone interested in data sharing\, people working in FOTs\, decision makers in private and public organisations\, data experts and transport researchers. \nFor more details and the preliminary agenda\, please click here. \n \nPaper Presentation “A platform for sharing data from field operational tests”Detroit\, September 2014 \nDuring the Technical and Scientific Program at the Detroit Congress\, FOT-Net Data will also organise a paper presentation. Exact location and date will be communicated in due time. \nThe paper describes how a platform is being developed for sharing data collected in FOTs. In these tests often a huge amount of data is gathered about driver behaviour and the interaction between drivers\, vehicles\, ITS\, infrastructure and the traffic environment. These datasets are often only partly analysed because of targeted research goals and lack of resources. They may be of great value for other organisations and researchers in order to answer further research questions and to determine the impact of wide-scale use of ITS. The paper will describe a how a European platform for enabling data sharing and data re-use is being developed. \n 
URL:https://erticonetwork.com/event/fot-net-data-international-workshop-on-data-sharing/
CATEGORIES:ERTICO
END:VEVENT
BEGIN:VEVENT
DTSTART;TZID=Europe/Brussels:20140907T070000
DTEND;TZID=Europe/Brussels:20140911T130000
DTSTAMP:20260419T165737
CREATED:20130519T150310Z
LAST-MODIFIED:20130519T150310Z
UID:10010873-1410073200-1410440400@erticonetwork.com
SUMMARY:ITS World Congress 2014 - Detroit
DESCRIPTION:The Intelligent Transportation Society of America\, ERTICO–ITS Europe\, and ITS Japan will host the 21st World Congress on Intelligent Transport Systems in Detroit\, Michigan from September 7-11\, 2014\, bringing together more than 10\,000 of the world’s leading transportation policy makers\, technology\, and business professionals.\nTechnology Demonstration Participants Sought for 21st World Congress on Intelligent Transport Systems\nThe conference organizers are planning to feature a live demonstration of ITS technologies.  In order to facilitate planning efforts\, the Technology Showcase Committee invites interested organizations to submit a pre-application to participate in the World Congress technology demonstrations. \nThe purpose for this pre-application is to ascertain whether an organization is interested in participating in the technology demonstrations and to collect a general description of what an organization may be considering for demonstration. \nSubmission of this application will serve as an organization’s intent to participate. A formal application process will occur at a later date\, which will be an expanded version of this form. At this time\, information submitted will be considered the demonstrator’s best guess at their possible demonstration. Submission of the pre-application will allow an organization earlier access to the planning process to include teleconferences\, face-to-face meetings\, and information dissemination. \nDownload the pre- application here.
URL:https://erticonetwork.com/event/its-world-congress-2014-detroit/
CATEGORIES:ERTICO
END:VEVENT
BEGIN:VEVENT
DTSTART;TZID=Europe/Brussels:20140918T060000
DTEND;TZID=Europe/Brussels:20140918T150000
DTSTAMP:20260419T165737
CREATED:20140807T141717Z
LAST-MODIFIED:20140807T141717Z
UID:10011145-1411020000-1411052400@erticonetwork.com
SUMMARY:Connected Vehicles
DESCRIPTION:Connected vehicles hold the promise of increased safety and security\, better network efficiency\, improved traffic management and reduced environmental impact.  \nCar makers\, mobile-network operators\, insurers\, IT solutions providers… all are looking towards this new market to boost their sales and turn the upcoming eCall regulation into a source of profit rather than an additional cost. \nHowever\, connected vehicles can only be developed as part of a standardised eco-system. The question is: how can actors from very diverse industry backgrounds co-operate to set up profitable business models and avoid the chicken and egg dilemma? Regulation\, big data\, multi-industry cooperation: these are the key drivers of the next paradigm shift in transportation. \nThis unique event held in Brussels\, on 18 September 2014\, will bring together policy makers\, public authorities and C-level executives from a broad range of sectors to discuss the future of smart mobility and the opportunities and risks in developing products and services to build up an ecosystem of connected vehicles and intelligent road networks. \n3 reasons to attend : \n\nLearn about the development prospects and market dynamics across sectors to keep up to speed with the connected revolution\nFind out how to design viable economic models addressing the needs of each market player within the value chain\nListen to pioneers’ best practices for setting up and managing successful portfolios of connected products and services\n\nRegisiter now!
URL:https://erticonetwork.com/event/connected-vehicles/
CATEGORIES:ERTICO
END:VEVENT
BEGIN:VEVENT
DTSTART;TZID=Europe/Brussels:20140918T060000
DTEND;TZID=Europe/Brussels:20140918T215959
DTSTAMP:20260419T165737
CREATED:20140710T135942Z
LAST-MODIFIED:20140710T135942Z
UID:10011138-1411020000-1411077599@erticonetwork.com
SUMMARY:International Conference Connected Vehicles
DESCRIPTION:Connected vehicles hold the promise of increased safety and security\, better network efficiency\, improved traffic management and reduced environmental impact. \nCar makers\, mobile-network operators\, insurers\, IT solutions providers all are looking towards this new market to boost their sales and turn the upcoming eCall regulation into a source of profit rather than an additional cost. \nHowever\, connected vehicles can only be developed as part of a standardised eco-system. The question is: how can actors from very diverse industry backgrounds co-operate to set up profitable business models and avoid the chicken and egg dilemma? Regulation\, big data\, multi-industry cooperation: these are the key drivers of the next paradigm shift in transportation. \nThis International conference held in Brussels will bring together policy makers\, public authorities and executives from a broad range of sectors to discuss the future of smart mobility and the opportunities and risks in developing products and services to build up an ecosystem of connected vehicles and intelligent road networks. \nFor more information\, click here. \n 
URL:https://erticonetwork.com/event/international-conference-connected-vehicles-3/
CATEGORIES:ERTICO
END:VEVENT
BEGIN:VEVENT
DTSTART;TZID=Europe/Brussels:20140923T063000
DTEND;TZID=Europe/Brussels:20140923T103000
DTSTAMP:20260419T165737
CREATED:20140411T080619Z
LAST-MODIFIED:20140411T080619Z
UID:10011103-1411453800-1411468200@erticonetwork.com
SUMMARY:European Transport Forum
DESCRIPTION:Building an interconnected European Transport System: the key to achieve a sustainable Single European Transport Area? \nThe European Transport Forum will be articulated around two panel debates: \nThe first panel will focus on goods mobility: \nThe deployment of Intelligent Transport Solutions and cooperative systems introduces advanced traffic management capacities to freight transport and paves the way to build a connected intermodal transport system for Europe. How to ensure this pan-European harmonisation and how to speed up the process in order to improve logistics efficiency? Who are the needed stakeholders and how should they cooperate to make it happen? What does it request from authorities? \nThe second panel will focus on people mobility: \nCombining Intermodal transport services and ITS should also help achieving sustainable mobility for the citizens in urban areas. Is it already a reality in some European cities? What does it request from local authorities? Can the citizens already use a multi modal journey planner for their own mobility? Is there a need for an EU wide approach? \n  \nhttp://www.europeantransportforum.eu/
URL:https://erticonetwork.com/event/european-transport-forum/
CATEGORIES:ERTICO
END:VEVENT
BEGIN:VEVENT
DTSTART;TZID=Europe/Brussels:20140924T220000
DTEND;TZID=Europe/Brussels:20140925T215959
DTSTAMP:20260419T165737
CREATED:20140620T131306Z
LAST-MODIFIED:20140620T131306Z
UID:10011127-1411596000-1411682399@erticonetwork.com
SUMMARY:Harmonized Cooperative ITS Security Policy Public Workshop
DESCRIPTION:Stakeholders info day HTG6 \nVenue: Fraunhofer Institute for Secure Information Technology (SIT)Darmstadt\, Germany25 September 201410:00-15:00 \nFor more information on this event\, please click here.
URL:https://erticonetwork.com/event/harmonized-cooperative-its-security-policy-public-workshop/
CATEGORIES:ERTICO
END:VEVENT
BEGIN:VEVENT
DTSTART;TZID=Europe/Brussels:20140925T073000
DTEND;TZID=Europe/Brussels:20140926T100000
DTSTAMP:20260419T165737
CREATED:20140916T091648Z
LAST-MODIFIED:20140916T091648Z
UID:10011042-1411630200-1411725600@erticonetwork.com
SUMMARY:ERTICO Project Development Workshop
DESCRIPTION:ERTICO Project Development Workshop \nDATE: 25 – 26 September 2014 \nVENUE: Management Centre Europe\, Rue de l’Aqueduc 118\, 1050 Brussels \nThe aim of this workshop is to identify appropriate project ideas and to start developing concepts for the project proposals (objectives\, needed competences\, needed sectors\, proposal development process\, interested ERTICO Partners). \nParticipation: ERTICO Partners only
URL:https://erticonetwork.com/event/ertico-project-development-workshop-2/
LOCATION:66\, 66
CATEGORIES:ERTICO
END:VEVENT
END:VCALENDAR