BEGIN:VCALENDAR
VERSION:2.0
PRODID:-//ERTICO Newsroom - ECPv6.7.0//NONSGML v1.0//EN
CALSCALE:GREGORIAN
METHOD:PUBLISH
X-WR-CALNAME:ERTICO Newsroom
X-ORIGINAL-URL:https://erticonetwork.com
X-WR-CALDESC:Events for ERTICO Newsroom
REFRESH-INTERVAL;VALUE=DURATION:PT1H
X-Robots-Tag:noindex
X-PUBLISHED-TTL:PT1H
BEGIN:VTIMEZONE
TZID:Europe/Brussels
BEGIN:DAYLIGHT
TZOFFSETFROM:+0100
TZOFFSETTO:+0200
TZNAME:CEST
DTSTART:20140330T010000
END:DAYLIGHT
BEGIN:STANDARD
TZOFFSETFROM:+0200
TZOFFSETTO:+0100
TZNAME:CET
DTSTART:20141026T010000
END:STANDARD
END:VTIMEZONE
BEGIN:VEVENT
DTSTART;TZID=Europe/Brussels:20141112T120000
DTEND;TZID=Europe/Brussels:20141112T130000
DTSTAMP:20260420T014952
CREATED:20141007T090934Z
LAST-MODIFIED:20141007T090934Z
UID:10011193-1415793600-1415797200@erticonetwork.com
SUMMARY:Webinar FOT-Net Data "Context\, functions\, use cases\, research questions and hypotheses"
DESCRIPTION:12 November 2014\, 13.00-14:00: Context\, functions\, use cases\, research questions and hypothesesSpeaker: Oliver Carsten (University of Leeds) \nRegister for the webinar: https://www4.gotomeeting.com/register/921112615 \nThe FESTA Handbook can be downloaded from: http://fot-net.eu/Documents/festa-handbook-version-5-2014. \n 
URL:https://erticonetwork.com/event/webinar-fot-net-data-context-functions-use-cases-research-questions-and-hypotheses/
CATEGORIES:ERTICO
END:VEVENT
BEGIN:VEVENT
DTSTART;TZID=Europe/Brussels:20141113T080000
DTEND;TZID=Europe/Brussels:20141113T160000
DTSTAMP:20260420T014952
CREATED:20141016T073206Z
LAST-MODIFIED:20141016T073206Z
UID:10011203-1415865600-1415894400@erticonetwork.com
SUMMARY:EeIP meeting
DESCRIPTION:Brussels13 November 2014\, 09:00-17:00
URL:https://erticonetwork.com/event/eeip-meeting/
CATEGORIES:ERTICO
END:VEVENT
BEGIN:VEVENT
DTSTART;TZID=Europe/Brussels:20141116T230000
DTEND;TZID=Europe/Brussels:20141118T225959
DTSTAMP:20260420T014952
CREATED:20141117T133933Z
LAST-MODIFIED:20141117T133933Z
UID:10011230-1416178800-1416351599@erticonetwork.com
SUMMARY:Belgium UNECE Inland Transport Committee workshop on ITS on 17-18.11
DESCRIPTION:This annual workshop follows the United Nations Economic Commission for Europe (UNECE) roadmap for promoting Intelligent Transport Systems (ITS)\, which includes global actions ranging from harmonizing policies to improving road safety and ensuring data security. \nThe workshop will bring together ITS experts to discuss how innovations based on information and communications technology can help create a driving and transportation culture that contributes to safe\, efficient and sustainable mobility. The workshop is one of the 20 global actions mentioned in the UNECE Road Map for promoting ITS. Interested stakeholders are kindly invited to the event on 17‐18 November 2014 in Brussels at the Diamant Conference and Business Centre. For more information please visit: http://www.unece.org/index.php?id=36646 \n 
URL:https://erticonetwork.com/event/belgium-unece-inland-transport-committee-workshop-on-its-on-17-18-11/
CATEGORIES:ERTICO
END:VEVENT
BEGIN:VEVENT
DTSTART;TZID=Europe/Brussels:20141118T083000
DTEND;TZID=Europe/Brussels:20141118T130000
DTSTAMP:20260420T014952
CREATED:20140908T145202Z
LAST-MODIFIED:20140908T145202Z
UID:10011163-1416299400-1416315600@erticonetwork.com
SUMMARY:Intelligent Mobility for Smart Cities
DESCRIPTION:Autoworld\, Parc du Cinquantenaire 11Brussels18 November 2014 \n  \nAGENDA \n \n  \n  \n  \n  \n  \n  \n  \n  \n  \n  \n. \nTo follow the online debate\, click here \nFor registration: please click here 
URL:https://erticonetwork.com/event/intelligent-mobility-for-smart-cities/
CATEGORIES:ERTICO
ATTACH;FMTTYPE=image/jpeg:https://erticonetwork.com/wp-content/uploads/2014/09/images_FW__New_speakers_confirmed__Intelligent_Mobilit_Page_1.jpg
END:VEVENT
BEGIN:VEVENT
DTSTART;TZID=Europe/Brussels:20141119T120000
DTEND;TZID=Europe/Brussels:20141119T130000
DTSTAMP:20260420T014952
CREATED:20141007T091057Z
LAST-MODIFIED:20141007T091057Z
UID:10011194-1416398400-1416402000@erticonetwork.com
SUMMARY:Webinar FOT-Net Data "Performance indicators\, study design and measures and sensors"
DESCRIPTION:19 November 2014\, 13:00-14:00: Performance indicators\, study design and measures and sensorsSpeaker: Yvonne Barnard (ERTICO- ITS Europe\, University of Leeds) \nRegister for the webinar at: https://www4.gotomeeting.com/register/922125255 \nThe FESTA Handbook can be downloaded from: http://fot-net.eu/Documents/festa-handbook-version-5-2014.
URL:https://erticonetwork.com/event/webinar-fot-net-data-performance-indicators-study-design-and-measures-and-sensors/
CATEGORIES:ERTICO
END:VEVENT
BEGIN:VEVENT
DTSTART;TZID=Europe/Brussels:20141125T143000
DTEND;TZID=Europe/Brussels:20141125T163000
DTSTAMP:20260420T014952
CREATED:20141028T115551Z
LAST-MODIFIED:20141028T115551Z
UID:10011214-1416925800-1416933000@erticonetwork.com
SUMMARY:PCP Webinar: Cross-Continental Learning Lab for Innovation Procurement
DESCRIPTION:PCP WebinarCross-Continental Learning Lab for Innovation Procurement: Approaches in Europe and Canada25 November 201415:30-17:30 Brussels time \nThe webinar will provide an overview on the background\, legal framework and current good-practice examples of PCP projects and initiatives around Europe in comparison to the approaches implemented in Canada. \nSpeakers will give an insight on already implemented PCP/PPI projects and programs\, the lessons learned from the previous initiatives and the future prospects and challenges of PCP. Furthermore the webinar should enable mutual learning and the discussion on possible cooperation areas. \nSpeakers include Peter Bown\, Build in Canada Innovation Program; Ruben Prins\, Consultant Innovation & Procurement at Agentschap NL; and Lisa Silvermark\, Swedisch Transport Administration. The webinar will be moderated by Katharina Zwick\, AustriaTech. \nYou will find the agenda here. \nJoin us for the webinar on 25 November: \nREGISTER NOW \nSpace is limited. \nReserve your webinar seat now! \nwww.imobilitysupport.eu
URL:https://erticonetwork.com/event/pcp-webinar-cross-continental-learning-lab-for-innovation-procurement/
CATEGORIES:ERTICO
END:VEVENT
BEGIN:VEVENT
DTSTART;TZID=Europe/Brussels:20141126T120000
DTEND;TZID=Europe/Brussels:20141126T130000
DTSTAMP:20260420T014952
CREATED:20141007T091209Z
LAST-MODIFIED:20141007T091209Z
UID:10011195-1417003200-1417006800@erticonetwork.com
SUMMARY:Webinar FOT-Net Data "Ethical and legal issues and data gathering"
DESCRIPTION:26 November 2014\, 13:00-14:00: Ethical and legal issues and data gathering \nSpeaker: Helena Gellerman (SAFER) \nRegister for the webinar at: https://www4.gotomeeting.com/register/923040583 \nThe FESTA Handbook can be downloaded from: http://fot-net.eu/Documents/festa-handbook-version-5-2014. \n 
URL:https://erticonetwork.com/event/webinar-fot-net-data-ethical-and-legal-issues-and-data-gathering/
CATEGORIES:ERTICO
END:VEVENT
BEGIN:VEVENT
DTSTART;TZID=Europe/Brussels:20141127T080000
DTEND;TZID=Europe/Brussels:20141127T170000
DTSTAMP:20260420T014952
CREATED:20140620T132029Z
LAST-MODIFIED:20140620T132029Z
UID:10011130-1417075200-1417107600@erticonetwork.com
SUMMARY:HeERO International Conference
DESCRIPTION:Final HeERO International Conference \nINT – 27-28 November2014 – Madrid\, Spain \nThe Conference will highlight the final outcomes\, impact and results of the HeERO (Harmonized eCall European Pilot) project. Each pilot site will share its experiences and participants will have the opportunity to see eCall demonstrations. \nAttendees will get an exclusive insight on: \n– the status of eCall deployment in the HeERO1 and HeERO2 pilot sites including: \n          o eCall for trucks \n          o powered 2 wheeled eCall \n          o filtering instance for PSAP \n– the outcome of interoperability testing \n– update on standards and certification for eCall \n– the recommendations for the large scale implementation of the eCall service in Europe. \nThe event will be hosted at the Hotel Puerta America Madrid on 27 November from 9.00 AM to 6.00 PM. \nOn Friday 28 November\, participants will have the opportunity to attend live eCall demonstrations organised throughout the day at the Dirección General de Tráfico\, Madrid. To attend you must register beforehand\, please make your choice in the registration page. \nRegister \n 
URL:https://erticonetwork.com/event/heero-international-conference/
CATEGORIES:ERTICO
END:VEVENT
END:VCALENDAR