BEGIN:VCALENDAR
VERSION:2.0
PRODID:-//ERTICO Newsroom - ECPv6.7.0//NONSGML v1.0//EN
CALSCALE:GREGORIAN
METHOD:PUBLISH
X-WR-CALNAME:ERTICO Newsroom
X-ORIGINAL-URL:https://erticonetwork.com
X-WR-CALDESC:Events for ERTICO Newsroom
REFRESH-INTERVAL;VALUE=DURATION:PT1H
X-Robots-Tag:noindex
X-PUBLISHED-TTL:PT1H
BEGIN:VTIMEZONE
TZID:Europe/Brussels
BEGIN:DAYLIGHT
TZOFFSETFROM:+0100
TZOFFSETTO:+0200
TZNAME:CEST
DTSTART:20150329T010000
END:DAYLIGHT
BEGIN:STANDARD
TZOFFSETFROM:+0200
TZOFFSETTO:+0100
TZNAME:CET
DTSTART:20151025T010000
END:STANDARD
END:VTIMEZONE
BEGIN:VEVENT
DTSTART;TZID=Europe/Brussels:20150223T130000
DTEND;TZID=Europe/Brussels:20150223T160000
DTSTAMP:20260422T082811
CREATED:20140912T095606Z
LAST-MODIFIED:20140912T095606Z
UID:10011173-1424696400-1424707200@erticonetwork.com
SUMMARY:-	iMobility Forum Steering Group Chairs meeting
DESCRIPTION:More information on http://www.imobilitysupport.eu/ \n 
URL:https://erticonetwork.com/event/imobility-forum-steering-group-chairs-meeting-2/
CATEGORIES:ERTICO
ATTACH;FMTTYPE=image/gif:https://erticonetwork.com/wp-content/uploads/2014/09/images_i-MobilityForum-Logo.gif
END:VEVENT
BEGIN:VEVENT
DTSTART;TZID=Europe/Brussels:20150223T130000
DTEND;TZID=Europe/Brussels:20150223T160000
DTSTAMP:20260422T082811
CREATED:20140912T095623Z
LAST-MODIFIED:20140912T095623Z
UID:10011174-1424696400-1424707200@erticonetwork.com
SUMMARY:iMobility Forum Steering Group Chairs meeting
DESCRIPTION:More information on http://www.imobilitysupport.eu/ \n 
URL:https://erticonetwork.com/event/imobility-forum-steering-group-chairs-meeting-3/
CATEGORIES:ERTICO
ATTACH;FMTTYPE=image/gif:https://erticonetwork.com/wp-content/uploads/2014/09/images_i-MobilityForum-Logo.gif
END:VEVENT
BEGIN:VEVENT
DTSTART;TZID=Europe/Brussels:20150225T120000
DTEND;TZID=Europe/Brussels:20150225T163000
DTSTAMP:20260422T082811
CREATED:20140912T100510Z
LAST-MODIFIED:20140912T100510Z
UID:10011179-1424865600-1424881800@erticonetwork.com
SUMMARY:iMobility Forum Steering Group
DESCRIPTION:More information on http://www.imobilitysupport.eu/ \n 
URL:https://erticonetwork.com/event/imobility-forum-steering-group/
CATEGORIES:ERTICO
ATTACH;FMTTYPE=image/gif:https://erticonetwork.com/wp-content/uploads/2014/09/images_i-MobilityForum-Logo.gif
END:VEVENT
BEGIN:VEVENT
DTSTART;TZID=Europe/Brussels:20150226T080000
DTEND;TZID=Europe/Brussels:20150226T140000
DTSTAMP:20260422T082811
CREATED:20150210T154330Z
LAST-MODIFIED:20150210T154330Z
UID:10011272-1424937600-1424959200@erticonetwork.com
SUMMARY:Smartcem final event
DESCRIPTION:smartCEM final event with exhibitions\, electric scooter demo\, roundtables and participation of FIA Formula E driver Jérôme D’Ambrosio! 26 February at the RACC premises in Barcelona. \nFor more information visit smartcem-project.eu
URL:https://erticonetwork.com/event/smartcem-final-event/
CATEGORIES:ERTICO
END:VEVENT
END:VCALENDAR