BEGIN:VCALENDAR
VERSION:2.0
PRODID:-//ERTICO Newsroom - ECPv6.7.0//NONSGML v1.0//EN
CALSCALE:GREGORIAN
METHOD:PUBLISH
X-WR-CALNAME:ERTICO Newsroom
X-ORIGINAL-URL:https://erticonetwork.com
X-WR-CALDESC:Events for ERTICO Newsroom
REFRESH-INTERVAL;VALUE=DURATION:PT1H
X-Robots-Tag:noindex
X-PUBLISHED-TTL:PT1H
BEGIN:VTIMEZONE
TZID:Europe/Brussels
BEGIN:DAYLIGHT
TZOFFSETFROM:+0100
TZOFFSETTO:+0200
TZNAME:CEST
DTSTART:20150329T010000
END:DAYLIGHT
BEGIN:STANDARD
TZOFFSETFROM:+0200
TZOFFSETTO:+0100
TZNAME:CET
DTSTART:20151025T010000
END:STANDARD
END:VTIMEZONE
BEGIN:VEVENT
DTSTART;TZID=Europe/Brussels:20150302T230000
DTEND;TZID=Europe/Brussels:20150303T225959
DTSTAMP:20260422T001502
CREATED:20141003T085254Z
LAST-MODIFIED:20141003T085254Z
UID:10011186-1425337200-1425423599@erticonetwork.com
SUMMARY:FOT-Net Data Stakeholders Meeting
DESCRIPTION:To be held in Brussels. \nExact venue and agenda to be published soon.
URL:https://erticonetwork.com/event/fot-net-data-stakeholders-meeting/
CATEGORIES:ERTICO
END:VEVENT
BEGIN:VEVENT
DTSTART;TZID=Europe/Brussels:20150310T070000
DTEND;TZID=Europe/Brussels:20150311T225959
DTSTAMP:20260422T001502
CREATED:20141105T093421Z
LAST-MODIFIED:20141105T093421Z
UID:10011216-1425970800-1426114799@erticonetwork.com
SUMMARY:TISA Committee meetings
DESCRIPTION:
URL:https://erticonetwork.com/event/tisa-committee-meetings/
CATEGORIES:ERTICO
END:VEVENT
BEGIN:VEVENT
DTSTART;TZID=Europe/Brussels:20150310T083000
DTEND;TZID=Europe/Brussels:20150310T160000
DTSTAMP:20260422T001502
CREATED:20141007T091350Z
LAST-MODIFIED:20141007T091350Z
UID:10011196-1425976200-1426003200@erticonetwork.com
SUMMARY:FOT-Net Data Stakeholder meeting
DESCRIPTION:Venue: ERTICO – ITS Europe\, BrusselsDate: Tuesday 10 March 2015\, 09h30-17h00 \nThis meeting will address three main topics: \n\nThe way in which the new projects in Horizon 2020 will deal with open data and can profit from re-using data gathered in earlier projects. Also recommendations on open data for new proposals will be discussed.\n\nPractices and initiatives in data sharing and open data in the US and Europe\n\nThe work that FOT-Net Data is performing on the data sharing platform and the data catalogue\n\nWho should attend: \nEveryone with an interest in sharing and re-using data and in Field Operational Tests is cordially invited to attend this event\, free of charge. We especially like to welcome stakeholders from the newly awarded H2020 projects and stakeholders that are preparing H2020 proposals in order to discuss issues with open data\, and the possibilities for sharing project data and for re-using existing data. \nFor the agenda\, please click here. \nTo register\, please click here. \nAbout FOT-Net Data: \nThe EU research project FOT-Net Data supports the efficient sharing and re-use of available FOT (Field Operational Tests). Sharing collected valuable datasets from the recent years will yield further research results\, create new collaborative options\, generate financial and time savings in transport research and contribute to market introduction of improved vehicle ICT. \nFOT-Net Data continues the networking activities of the FOT-Net project. \nMore info: \ninfo@fot-net.eu \nwww.fot-net.eu \n 
URL:https://erticonetwork.com/event/fot-net-data-stakeholder-meeting/
CATEGORIES:ERTICO
END:VEVENT
BEGIN:VEVENT
DTSTART;TZID=Europe/Brussels:20150326T080000
DTEND;TZID=Europe/Brussels:20150326T133000
DTSTAMP:20260422T001502
CREATED:20150309T085942Z
LAST-MODIFIED:20150309T085942Z
UID:10011289-1427356800-1427376600@erticonetwork.com
SUMMARY:Improving Cycling Safety using ITS
DESCRIPTION:The VRUITS project\, which is sponsored by the European Commission (DG MOVE)\, aims at providing recommendations regarding ITS applications for the improvement of the safety and mobility for Vulnerable Road Users. VRUITS assesses the societal impact of selected ITS applications and demonstrates the use of innovative ITS applications for VRUs. \nIn Helmond\, the VRUITS project will demonstrate how vehicles and cyclists can communicate with each other. For example\, vehicle drivers can receive warnings of possible collisions with cyclists and the vehicle brakes automatically to avoid the collision or cyclists are personally warned for collisions. \nIn the seminar the VRUITS partners will discuss how ITS can be used to improve cycling safety. The use of Cooperative ITS for cyclists will receive specific stress. At the end of the seminar\, participants will be able to visit the VRUITS Helmond test site. \nSeminar Programme \n09:00 Participants Arrival and Registration \n09:30 Keynote speech (Rob Methorst\, Rijkswaterstaat) \n09:50 VRUITS project and assessment results (Johan Scholliers\, VTT) \n10:10 Improving safety of elderly cyclists (Stefanie de Hair\, TNO) \n10:30 Coffee break \n11:00 Helmond and C-ITS (Daniel de Klein\, City of Helmond) \n11:20 Mobility data of cyclists (NN\, TNO) \n11:40 Industrial perspective for C-ITS (Kees Moerman\, NXP) \n12:00 The Helmond VRUITS demonstration (Esra van Dam\, TNO) \n12:20 Lunch and transportation to the demonstration site \n13:30 Visit to the demonstration site \n14:30 Seminar closure \nFor more information and to register\, click here
URL:https://erticonetwork.com/event/improving-cycling-safety-using-its/
CATEGORIES:ERTICO
END:VEVENT
BEGIN:VEVENT
DTSTART;TZID=Europe/Brussels:20150329T220000
DTEND;TZID=Europe/Brussels:20150331T215959
DTSTAMP:20260422T001502
CREATED:20150114T101950Z
LAST-MODIFIED:20150114T101950Z
UID:10011247-1427666400-1427839199@erticonetwork.com
SUMMARY:CityMobil2 workshop: Socio-economic impact of road vehicle automation
DESCRIPTION:Road vehicle automation will have an impact as big as the internal combustion engine had during the 20th century. Do you know how is mobility going to change? And how your business\, your industry and society at large are going to be affected? \nTo discuss this\, the workshop on Socio-economic impact of road vehicle automation has been organized by CityMobil2* in the framework of the Automated Road Transport System demonstration in La Rochelle\, France\, on March 30 and 31\, 2015. Free registration\, limited number of attendees.  \nMore information will be available here \n  \n* CityMobil2 is an EC-funded FP7 research project aiming at eliminating the barriers to the deployment of fully automated road transport systems and automated mobility
URL:https://erticonetwork.com/event/citymobil2-workshop-socio-economic-impact-of-road-vehicle-automation/
CATEGORIES:ERTICO
END:VEVENT
BEGIN:VEVENT
DTSTART;TZID=Europe/Brussels:20150330T121500
DTEND;TZID=Europe/Brussels:20150331T100000
DTSTAMP:20260422T001503
CREATED:20150226T084012Z
LAST-MODIFIED:20150615T180937Z
UID:10011279-1427717700-1427796000@erticonetwork.com
SUMMARY:Workshop on the socio-economic impact of road vehicle automation
DESCRIPTION:CityMobil2 workshop – Socio-economic impact of road vehicle automation – March 30 and 31\, 2015\, La Rochelle\, France. \nLAST DAYS TO REGISTER! \nThe CityMobil2 project aims at eliminating the barriers to the deployment of fully automated road transport systems and automated mobility. One of these barriers is the little knowledge of the large-scale socio-economic impact of road vehicle automation\, which could be as big as that of the internal combustion engine during the 20th century. How is your business\, your industry and society at large going to be affected? Do you know how is mobility going to change? \nCityMobil2 invites you to discuss about it with other experts and stakeholders at the workshop on Socio-economic impact of road vehicle automation. The workshop is organized in the framework of the Automated Road Transport System pilot that is being conducted by CityMobil2 in La Rochelle\, France. Experts\, officials and stakeholders from Europe\, US and Japan have already confirmed their attendance. \nDate: March 30 and 31\, 2015. Free registration\, limited number of attendees. Registration closes on February 27th 2015. \nFurther information and registration here.
URL:https://erticonetwork.com/event/workshop-on-the-socio-economic-impact-of-road-vehicle-automation/
CATEGORIES:ERTICO
END:VEVENT
BEGIN:VEVENT
DTSTART;TZID=Europe/Brussels:20150331T070000
DTEND;TZID=Europe/Brussels:20150331T130000
DTSTAMP:20260422T001503
CREATED:20150227T151857Z
LAST-MODIFIED:20150227T151857Z
UID:10011282-1427785200-1427806800@erticonetwork.com
SUMMARY:ICT-Emissions project Final event\, 31st March\, Brussels
DESCRIPTION:ICT-Emissions project is coming to an end this March and we are hosting our Final Conference “ICT-Emissions: Environmental and climate assessment in the transport area” in Brussels on 31st March. \nFor more information on the event and location\, please have a look at the invitation attached to this message. The conference agenda will be circulated closer to the event. An online registration form is available on the event webpage. \nThe event will focus on: Results from specific real-world application cases in selected cities where ITS measures are deployed;How to develop synergies and common standards for local traffic management;ITS products development and market penetration. \nTarget Audience: The workshop is free of charge and open to local authorities\, automotive manufactures\, system suppliers\, software companies\, and academia. \nTravel expenses reimbursement is available. For more information please contact: FBoschetti@polisnetwork.eu. \nVenue: c/o Polis\, rue due Trone 98\, B-1050 Brussels\, Belgium. \nTime: Tuesday\, 31 March 2015\, from 10:00 to 15:00. \nContact: Florinda Boschetti at Polis\, email FBoschetti@polisnetwork.eu or phone +32-2-500 56 74
URL:https://erticonetwork.com/event/ict-emissions-project-final-event-31st-march-brussels/
CATEGORIES:ERTICO
END:VEVENT
END:VCALENDAR