BEGIN:VCALENDAR
VERSION:2.0
PRODID:-//ERTICO Newsroom - ECPv6.7.0//NONSGML v1.0//EN
CALSCALE:GREGORIAN
METHOD:PUBLISH
X-WR-CALNAME:ERTICO Newsroom
X-ORIGINAL-URL:https://erticonetwork.com
X-WR-CALDESC:Events for ERTICO Newsroom
REFRESH-INTERVAL;VALUE=DURATION:PT1H
X-Robots-Tag:noindex
X-PUBLISHED-TTL:PT1H
BEGIN:VTIMEZONE
TZID:Europe/Brussels
BEGIN:DAYLIGHT
TZOFFSETFROM:+0100
TZOFFSETTO:+0200
TZNAME:CEST
DTSTART:20150329T010000
END:DAYLIGHT
BEGIN:STANDARD
TZOFFSETFROM:+0200
TZOFFSETTO:+0100
TZNAME:CET
DTSTART:20151025T010000
END:STANDARD
END:VTIMEZONE
BEGIN:VEVENT
DTSTART;TZID=Europe/Brussels:20150610T140000
DTEND;TZID=Europe/Brussels:20150610T160000
DTSTAMP:20260422T074245
CREATED:20150604T085920Z
LAST-MODIFIED:20150604T085920Z
UID:10011325-1433944800-1433952000@erticonetwork.com
SUMMARY:Working Group Energy and Transport
DESCRIPTION:Venue: Robert Bosch GmbH- Bismarckstraße 71 – Berlin (Charlottenburg) \nPotenziale der Elektromobilität im Straßengüterverkehr \nThis event will be held in German \nFor more information\, visit zukunftsenergien.de
URL:https://erticonetwork.com/event/working-group-energy-and-transport/
CATEGORIES:ERTICO
ATTACH;FMTTYPE=image/png:https://erticonetwork.com/wp-content/uploads/2015/06/images_forum.png
END:VEVENT
BEGIN:VEVENT
DTSTART;VALUE=DATE:20150616
DTEND;VALUE=DATE:20150618
DTSTAMP:20260422T074245
CREATED:20141105T093500Z
LAST-MODIFIED:20150616T032444Z
UID:10011217-1434412800-1434585599@erticonetwork.com
SUMMARY:TISA General Assembly + TISA Committee meetings
DESCRIPTION:
URL:https://erticonetwork.com/event/tisa-general-assembly-tisa-committee-meetings/
CATEGORIES:ERTICO
END:VEVENT
BEGIN:VEVENT
DTSTART;TZID=Europe/Brussels:20150616T000000
DTEND;TZID=Europe/Brussels:20150618T230000
DTSTAMP:20260422T074245
CREATED:20150403T071849Z
LAST-MODIFIED:20150616T031635Z
UID:10011305-1434412800-1434668400@erticonetwork.com
SUMMARY:Workshop on Anonymization of personal FOT data
DESCRIPTION:Gothenburg\, Sweden \nThis workshop provides insights into the current state-of-the-art of anonymisation of FOT/NDS data and includes discussions regarding the trends and the possibilities in the future. Book the dates to be updated on FOT/NDS data anonymization! \nMore information will be available on fot-net.eu/events
URL:https://erticonetwork.com/event/workshop-on-anonymization-of-personal-fot-data/
CATEGORIES:ERTICO
ATTACH;FMTTYPE=image/png:https://erticonetwork.com/wp-content/uploads/2015/02/images_FOT-NET-PRIMARY-LOGO-e1395672107835.png
END:VEVENT
BEGIN:VEVENT
DTSTART;TZID=Europe/Brussels:20150617T220000
DTEND;TZID=Europe/Brussels:20150617T220000
DTSTAMP:20260422T074245
CREATED:20150529T130342Z
LAST-MODIFIED:20150616T032501Z
UID:10011323-1434578400-1434578400@erticonetwork.com
SUMMARY:ITS Observatory\, User Requirements Workshop\, Brussels
DESCRIPTION:ITS Observatory User Requirements workshop will be held on 17th June. \nAt this early stage of the project ITS Observatory started on 1st may 2015\, we want to hear from you – regarding your wishes and requirements for the content\, features and usability of this first-of-its-kind Observatory in Europe. \nWe hope you will join us to share your experiences in planning\, implementing and operating ITS solutions\, and to discuss what you would expect to find in the ITS Observatory that could help you in your business\, and how you would want the Observatory to work for you. \nLocation: Four Points by Sheraton\, Rue Paul Spaak 15\, 1000\, Brussels: link. \nIf you wish to attend\, please register online here. \n 
URL:https://erticonetwork.com/event/its-observatory-user-requirements-workshop-brussels/
CATEGORIES:ERTICO
END:VEVENT
BEGIN:VEVENT
DTSTART;TZID=Europe/Brussels:20150622T140000
DTEND;TZID=Europe/Brussels:20150622T170000
DTSTAMP:20260422T074245
CREATED:20140912T100027Z
LAST-MODIFIED:20150616T032001Z
UID:10011176-1434981600-1434992400@erticonetwork.com
SUMMARY:iMobility Forum Steering Group Chairs meeting
DESCRIPTION:More information on http://www.imobilitysupport.eu/ \n 
URL:https://erticonetwork.com/event/imobility-forum-steering-group-chairs-meeting-5/
CATEGORIES:ERTICO
ATTACH;FMTTYPE=image/gif:https://erticonetwork.com/wp-content/uploads/2014/09/images_i-MobilityForum-Logo.gif
END:VEVENT
BEGIN:VEVENT
DTSTART;VALUE=DATE:20150623
DTEND;VALUE=DATE:20150626
DTSTAMP:20260422T074245
CREATED:20150403T130751Z
LAST-MODIFIED:20150616T032739Z
UID:10011306-1435017600-1435276799@erticonetwork.com
SUMMARY:Smart Cities Symposium Prague 2015
DESCRIPTION:Faculty of Transportation Sciences\, Prague \nThe Smart Cities Symposium Prague 2015 aims on exchange of ideas and best practices in the field of Smart cities. It covers whole range of topics\, from the system point of view\, through data mining and data processing\, smart grids\, up to multi-agent systems and other soft computing approaches. The objective of this conference is to define the future applications for the field of smart cities. The results should be based on the theoretical backgrounds\, but aim on usage of best practices for real world applications. \nFor more information\, click here
URL:https://erticonetwork.com/event/smart-cities-symposium-prague-2015/
CATEGORIES:ERTICO
END:VEVENT
BEGIN:VEVENT
DTSTART;TZID=Europe/Brussels:20150625T110000
DTEND;TZID=Europe/Brussels:20150625T120000
DTSTAMP:20260422T074245
CREATED:20150611T074654Z
LAST-MODIFIED:20150616T032203Z
UID:10011326-1435230000-1435233600@erticonetwork.com
SUMMARY:iMobility Forum webinar on Human Machine Interaction (HMI)
DESCRIPTION:iMobility Forum will run a series of interactive webinars on the status and recommendations of the iMobilility Forum Working Groups. These webinars will be dedicated to topics such as probe data\, SafeApp\, IRM\, VRU and Automation.\nThe first of this series of webinars will focus on Human Machine Interactions (HMI). This refers to the interaction between the driver and on-vehicle technologies such as driver information\, communication and warning systems. \nThe webinar will take place on 25 June 2015 from 11h00 to 12h00 CEST and presents the following speakers: \n– DG-MOVE Distracted Road Users project – Alan Stevens\, Transport Research Laboratory \n– C-ITS Platform considerations on Implementation and HMI – Casto López Benítez \, EU DG MOVE \n– iMobility WG-HMI Final Report and recommendations – Christhard Gelau\, Federal Ministry of Transport and Digital Infrastructure (Germany) \nThe webinar will be followed by a Questions and Answers session. \nREGISTER NOW \nYou will find the final report on HMI here \nWe look forward to your participation!
URL:https://erticonetwork.com/event/imobility-forum-webinar-on-human-machine-interaction-hmi/
CATEGORIES:ERTICO
END:VEVENT
BEGIN:VEVENT
DTSTART;TZID=Europe/Brussels:20150625T130000
DTEND;TZID=Europe/Brussels:20150625T173000
DTSTAMP:20260422T074245
CREATED:20140912T100746Z
LAST-MODIFIED:20150616T032234Z
UID:10011033-1435237200-1435253400@erticonetwork.com
SUMMARY:iMobility Forum Steering Group
DESCRIPTION:More information on http://www.imobilitysupport.eu/ \n 
URL:https://erticonetwork.com/event/imobility-forum-steering-group-3/
CATEGORIES:ERTICO
ATTACH;FMTTYPE=image/gif:https://erticonetwork.com/wp-content/uploads/2014/09/images_i-MobilityForum-Logo.gif
END:VEVENT
BEGIN:VEVENT
DTSTART;TZID=Europe/Brussels:20150630T160000
DTEND;TZID=Europe/Brussels:20150630T170000
DTSTAMP:20260422T074245
CREATED:20150611T142334Z
LAST-MODIFIED:20150616T032404Z
UID:10011327-1435680000-1435683600@erticonetwork.com
SUMMARY:Webinar: Vehicle Automation: Challenges and Opportunities for Cities
DESCRIPTION:Under the theme “Vehicle Automation: Challenges and Opportunities for Cities”\, this webinar aims to discuss cities’ experiences on deployment of automated vehicles with a particular focus on challenges (e.g. economic) and opportunities (e.g. road safety\, reduction of CO2 emissions) \nREGISTER \nFor more information\, visit viajeoplus.eu
URL:https://erticonetwork.com/event/webinar-vehicle-automation-challenges-and-opportunities-for-cities/
CATEGORIES:ERTICO
ATTACH;FMTTYPE=image/jpeg:https://erticonetwork.com/wp-content/uploads/2015/06/images_logoin.jpg
END:VEVENT
END:VCALENDAR