BEGIN:VCALENDAR
VERSION:2.0
PRODID:-//ERTICO Newsroom - ECPv6.7.0//NONSGML v1.0//EN
CALSCALE:GREGORIAN
METHOD:PUBLISH
X-ORIGINAL-URL:https://erticonetwork.com
X-WR-CALDESC:Events for ERTICO Newsroom
REFRESH-INTERVAL;VALUE=DURATION:PT1H
X-Robots-Tag:noindex
X-PUBLISHED-TTL:PT1H
BEGIN:VTIMEZONE
TZID:Europe/Brussels
BEGIN:DAYLIGHT
TZOFFSETFROM:+0100
TZOFFSETTO:+0200
TZNAME:CEST
DTSTART:20150329T010000
END:DAYLIGHT
BEGIN:STANDARD
TZOFFSETFROM:+0200
TZOFFSETTO:+0100
TZNAME:CET
DTSTART:20151025T010000
END:STANDARD
END:VTIMEZONE
BEGIN:VEVENT
DTSTART;VALUE=DATE:20150829
DTEND;VALUE=DATE:20150903
DTSTAMP:20260423T191338
CREATED:20150522T134459Z
LAST-MODIFIED:20150616T033027Z
UID:10011320-1440806400-1441238399@erticonetwork.com
SUMMARY:83rd Annual Meeting & Exhibition
DESCRIPTION:IBTTA’s biggest event of the year features three days of presentations\, workshops\, roundtable discussions and networking opportunities designed to help participants gain a greater understanding of our industry and be more successful when they get back home. A large exhibit hall will feature an array of companies with solutions to address the industry’s most important operational and business challenges. \nFor more information\, click here
URL:https://erticonetwork.com/event/83rd-annual-meeting-exhibition/
CATEGORIES:ERTICO
ATTACH;FMTTYPE=image/png:https://erticonetwork.com/wp-content/uploads/2015/05/images_dublin.png
END:VEVENT
END:VCALENDAR