BEGIN:VCALENDAR
VERSION:2.0
PRODID:-//ERTICO Newsroom - ECPv6.7.0//NONSGML v1.0//EN
CALSCALE:GREGORIAN
METHOD:PUBLISH
X-WR-CALNAME:ERTICO Newsroom
X-ORIGINAL-URL:https://erticonetwork.com
X-WR-CALDESC:Events for ERTICO Newsroom
REFRESH-INTERVAL;VALUE=DURATION:PT1H
X-Robots-Tag:noindex
X-PUBLISHED-TTL:PT1H
BEGIN:VTIMEZONE
TZID:Europe/Brussels
BEGIN:DAYLIGHT
TZOFFSETFROM:+0100
TZOFFSETTO:+0200
TZNAME:CEST
DTSTART:20150329T010000
END:DAYLIGHT
BEGIN:STANDARD
TZOFFSETFROM:+0200
TZOFFSETTO:+0100
TZNAME:CET
DTSTART:20151025T010000
END:STANDARD
END:VTIMEZONE
BEGIN:VEVENT
DTSTART;VALUE=DATE:20150829
DTEND;VALUE=DATE:20150903
DTSTAMP:20260423T133448
CREATED:20150522T134459Z
LAST-MODIFIED:20150616T033027Z
UID:10011320-1440806400-1441238399@erticonetwork.com
SUMMARY:83rd Annual Meeting & Exhibition
DESCRIPTION:IBTTA’s biggest event of the year features three days of presentations\, workshops\, roundtable discussions and networking opportunities designed to help participants gain a greater understanding of our industry and be more successful when they get back home. A large exhibit hall will feature an array of companies with solutions to address the industry’s most important operational and business challenges. \nFor more information\, click here
URL:https://erticonetwork.com/event/83rd-annual-meeting-exhibition/
CATEGORIES:ERTICO
ATTACH;FMTTYPE=image/png:https://erticonetwork.com/wp-content/uploads/2015/05/images_dublin.png
END:VEVENT
BEGIN:VEVENT
DTSTART;TZID=Europe/Brussels:20150901T080000
DTEND;TZID=Europe/Brussels:20150903T170000
DTSTAMP:20260423T133448
CREATED:20150806T133444Z
LAST-MODIFIED:20150806T133444Z
UID:10011342-1441094400-1441299600@erticonetwork.com
SUMMARY:Workshop: The Valley of Confusion: Bridging the Automation Gap
DESCRIPTION:The VRA partner (University of Leeds) will organise a Workshop “The Valley of Confusion: Bridging the Automation Gap” during the 7th International Conference on Automotive User Interfaces and Interactive Vehicular Applications which will be held in Nottingham\, UK\, September 1–3\, 2015. \nFor more information\, click here
URL:https://erticonetwork.com/event/workshop-the-valley-of-confusion-bridging-the-automation-gap/
CATEGORIES:ERTICO
END:VEVENT
BEGIN:VEVENT
DTSTART;TZID=Europe/Brussels:20150901T120000
DTEND;TZID=Europe/Brussels:20150902T123000
DTSTAMP:20260423T133448
CREATED:20150715T115622Z
LAST-MODIFIED:20150812T074320Z
UID:10011333-1441108800-1441197000@erticonetwork.com
SUMMARY:Workshop on Anonymisation of personal FOT data\, 01-02 September 2015 in Gothenburg
DESCRIPTION:Personal data such as video and GPS is collected in many Field Operational Tests (FOT) and Naturalistic Driving Studies (NDS). This data contribute with essential information that e.g. enables an objective view on the driver´s behaviour during different driving scenarios and facilitate map-data enrichment to the collected naturalistic data. The personal data demands though a high level of data protection not to reveal the personal identity outside the group of researcher that has approved access to the data. If the data could be anonymised while still keeping the information that is essential to research\, the access and the re-use of the valuable data would be greatly facilitated. \nThis workshop provides insights into the current state-of-the-art of anonymisation of FOT/NDS data and includes discussions regarding the trends and the possibilities in the future. Book the dates to be updated on FOT/NDS data anonymisation! \nRegistration is free of charge\, but required. Please click here \nDownload the preliminary agenda and travel information from here
URL:https://erticonetwork.com/event/workshop-on-anonymisation-of-personal-fot-data-01-02-september-2015-in-gothenburg/
LOCATION:SAFER- Vehicle and Traffic Safety Centre\, Lindholmspiren 3\, Gothenburg\, Sweden
CATEGORIES:ERTICO
GEO:57.7078156;11.9402364
X-APPLE-STRUCTURED-LOCATION;VALUE=URI;X-ADDRESS=SAFER- Vehicle and Traffic Safety Centre Lindholmspiren 3 Gothenburg Sweden;X-APPLE-RADIUS=500;X-TITLE=Lindholmspiren 3:geo:11.9402364,57.7078156
END:VEVENT
BEGIN:VEVENT
DTSTART;TZID=Europe/Brussels:20150910T093000
DTEND;TZID=Europe/Brussels:20150910T103000
DTSTAMP:20260423T133448
CREATED:20150713T133140Z
LAST-MODIFIED:20150824T081608Z
UID:10011331-1441877400-1441881000@erticonetwork.com
SUMMARY:iMobility Forum Webinar on Implementation Road Maps (IRM)
DESCRIPTION:iMobility Forum is running a series of interactive webinars on the status and recommendations of the iMobilility Forum Working Groups. These webinars are dedicated to topics such as probe data\, SafeApp\, VRU and Automation. \nThe second of this series of webinars will focus on Implementation Road Maps (IRM).\n\nThe webinar will take place on 10 September  2015 from 9h30 to 10h30 CET and will present the following topics and speakers:\n\n\nA general introduction on the Implementation Road Maps Working Group – Risto Kulmala\, FTA\n\n\niMobility effects database and Monitoring of deployment of iMobility priority systems – Risto Öörni\, VTT\n\n\nNew results on the deployment of vehicle based priority systems in Europe – Hans-Jürgen Mäurer\, DEKRA\n\n\n\nThe webinar will be concluded by a Questions and Answers session.\n\nREGISTER NOW\n\n\nWe look forward to your participation!\n\nFind out more at http://www.imobilitysupport.eu/
URL:https://erticonetwork.com/event/imobility-forum-webinar-on-implementation-road-maps-irm/
CATEGORIES:ERTICO
ATTACH;FMTTYPE=image/png:https://erticonetwork.com/wp-content/uploads/2015/07/Imp-roadmap-mailchimp_1-01.png
END:VEVENT
BEGIN:VEVENT
DTSTART;TZID=Europe/Brussels:20150911T090000
DTEND;TZID=Europe/Brussels:20150922T170000
DTSTAMP:20260423T133448
CREATED:20150522T140144Z
LAST-MODIFIED:20150616T033051Z
UID:10011322-1441962000-1442941200@erticonetwork.com
SUMMARY:EU Sustainable Mobility  Week
DESCRIPTION:www.mobilityweek.eu
URL:https://erticonetwork.com/event/eu-sustainable-mobility-week/
CATEGORIES:ERTICO
ATTACH;FMTTYPE=image/png:https://erticonetwork.com/wp-content/uploads/2015/05/images_mobw.png
END:VEVENT
BEGIN:VEVENT
DTSTART;VALUE=DATE:20150915
DTEND;VALUE=DATE:20150917
DTSTAMP:20260423T133448
CREATED:20141105T093529Z
LAST-MODIFIED:20150616T033112Z
UID:10011218-1442275200-1442447999@erticonetwork.com
SUMMARY:TISA Committee meetings
DESCRIPTION:
URL:https://erticonetwork.com/event/tisa-committee-meetings-2/
CATEGORIES:ERTICO
END:VEVENT
BEGIN:VEVENT
DTSTART;TZID=Europe/Brussels:20150921T140000
DTEND;TZID=Europe/Brussels:20150921T170000
DTSTAMP:20260423T133448
CREATED:20140912T100206Z
LAST-MODIFIED:20150616T033228Z
UID:10011177-1442844000-1442854800@erticonetwork.com
SUMMARY:-	iMobility Forum Steering Group Chairs meeting
DESCRIPTION:More information on http://www.imobilitysupport.eu/ \n 
URL:https://erticonetwork.com/event/imobility-forum-steering-group-chairs-meeting-6/
CATEGORIES:ERTICO
ATTACH;FMTTYPE=image/gif:https://erticonetwork.com/wp-content/uploads/2014/09/images_i-MobilityForum-Logo.gif
END:VEVENT
BEGIN:VEVENT
DTSTART;TZID=Europe/Brussels:20150923T110000
DTEND;TZID=Europe/Brussels:20150923T120000
DTSTAMP:20260423T133448
CREATED:20150713T134755Z
LAST-MODIFIED:20150915T082153Z
UID:10011332-1443006000-1443009600@erticonetwork.com
SUMMARY:iMobility Forum Webinar on SafeAPPs
DESCRIPTION:iMobility Forum will run a series of interactive webinars on the status and recommendations of the iMobilility Forum Working Groups. These webinars will be dedicated to topics such as probe data\, SafeApp\, IRM\, VRU and Automation. \nThe third of this series of webinars will focus on SafeAPPs taking place on 23 September 2015 from 11h00 to 12h00 CEST \nMore information on agenda and speakers coming soon! \nREGISTER NOW! \nFind out more at http://www.imobilitysupport.eu/
URL:https://erticonetwork.com/event/imobility-forum-webinar-on-safe-apps/
CATEGORIES:ERTICO
ATTACH;FMTTYPE=image/png:https://erticonetwork.com/wp-content/uploads/2015/07/SafeApps-mailchimp_1-01.png
END:VEVENT
BEGIN:VEVENT
DTSTART;TZID=Europe/Brussels:20150924T130000
DTEND;TZID=Europe/Brussels:20150924T173000
DTSTAMP:20260423T133448
CREATED:20140912T100921Z
LAST-MODIFIED:20150616T033244Z
UID:10011035-1443099600-1443115800@erticonetwork.com
SUMMARY:iMobility Forum Steering Group
DESCRIPTION:More information on http://www.imobilitysupport.eu/ \n 
URL:https://erticonetwork.com/event/imobility-forum-steering-group-4/
CATEGORIES:ERTICO
ATTACH;FMTTYPE=image/gif:https://erticonetwork.com/wp-content/uploads/2014/09/images_i-MobilityForum-Logo.gif
END:VEVENT
BEGIN:VEVENT
DTSTART;VALUE=DATE:20150929
DTEND;VALUE=DATE:20151001
DTSTAMP:20260423T133448
CREATED:20150522T134757Z
LAST-MODIFIED:20150616T033253Z
UID:10011321-1443484800-1443657599@erticonetwork.com
SUMMARY:Transports Publics 2015: The European Mobility Exhibition
DESCRIPTION:Lyon\, France \nInformation:transportspublics-expo.comhttp://www.transportspublics-expo.com/fr
URL:https://erticonetwork.com/event/transports-publics-2015-the-european-mobility-exhibition/
CATEGORIES:ERTICO
ATTACH;FMTTYPE=image/png:https://erticonetwork.com/wp-content/uploads/2015/05/images_fr.png
END:VEVENT
END:VCALENDAR