BEGIN:VCALENDAR
VERSION:2.0
PRODID:-//ERTICO Newsroom - ECPv6.7.0//NONSGML v1.0//EN
CALSCALE:GREGORIAN
METHOD:PUBLISH
X-ORIGINAL-URL:https://erticonetwork.com
X-WR-CALDESC:Events for ERTICO Newsroom
REFRESH-INTERVAL;VALUE=DURATION:PT1H
X-Robots-Tag:noindex
X-PUBLISHED-TTL:PT1H
BEGIN:VTIMEZONE
TZID:Europe/Brussels
BEGIN:DAYLIGHT
TZOFFSETFROM:+0100
TZOFFSETTO:+0200
TZNAME:CEST
DTSTART:20150329T010000
END:DAYLIGHT
BEGIN:STANDARD
TZOFFSETFROM:+0200
TZOFFSETTO:+0100
TZNAME:CET
DTSTART:20151025T010000
END:STANDARD
END:VTIMEZONE
BEGIN:VEVENT
DTSTART;TZID=Europe/Brussels:20151116T150000
DTEND;TZID=Europe/Brussels:20151116T180000
DTSTAMP:20260425T001100
CREATED:20140912T100321Z
LAST-MODIFIED:20151116T090229Z
UID:10011178-1447686000-1447696800@erticonetwork.com
SUMMARY:iMobility Forum Steering Group Chairs meeting
DESCRIPTION:More information on http://www.imobilitysupport.eu/ \n 
URL:https://erticonetwork.com/event/imobility-forum-steering-group-chairs-meeting-7/
CATEGORIES:ERTICO
ATTACH;FMTTYPE=image/gif:https://erticonetwork.com/wp-content/uploads/2014/09/images_i-MobilityForum-Logo.gif
END:VEVENT
BEGIN:VEVENT
DTSTART;TZID=Europe/Brussels:20151119T140000
DTEND;TZID=Europe/Brussels:20151119T183000
DTSTAMP:20260425T001100
CREATED:20140912T101039Z
LAST-MODIFIED:20150616T033623Z
UID:10011037-1447941600-1447957800@erticonetwork.com
SUMMARY:iMobility Forum Steering Group
DESCRIPTION:More information on http://www.imobilitysupport.eu/ \n 
URL:https://erticonetwork.com/event/imobility-forum-steering-group-5/
CATEGORIES:ERTICO
ATTACH;FMTTYPE=image/gif:https://erticonetwork.com/wp-content/uploads/2014/09/images_i-MobilityForum-Logo.gif
END:VEVENT
END:VCALENDAR