BEGIN:VCALENDAR
VERSION:2.0
PRODID:-//ERTICO Newsroom - ECPv6.7.0//NONSGML v1.0//EN
CALSCALE:GREGORIAN
METHOD:PUBLISH
X-WR-CALNAME:ERTICO Newsroom
X-ORIGINAL-URL:https://erticonetwork.com
X-WR-CALDESC:Events for ERTICO Newsroom
REFRESH-INTERVAL;VALUE=DURATION:PT1H
X-Robots-Tag:noindex
X-PUBLISHED-TTL:PT1H
BEGIN:VTIMEZONE
TZID:Europe/Brussels
BEGIN:DAYLIGHT
TZOFFSETFROM:+0100
TZOFFSETTO:+0200
TZNAME:CEST
DTSTART:20160327T010000
END:DAYLIGHT
BEGIN:STANDARD
TZOFFSETFROM:+0200
TZOFFSETTO:+0100
TZNAME:CET
DTSTART:20161030T010000
END:STANDARD
END:VTIMEZONE
BEGIN:VEVENT
DTSTART;VALUE=DATE:20160831
DTEND;VALUE=DATE:20160902
DTSTAMP:20260426T012247
CREATED:20160602T122352Z
LAST-MODIFIED:20160602T122352Z
UID:10011438-1472601600-1472774399@erticonetwork.com
SUMMARY:FOT-Net Data Workshop on Data Anonymization
DESCRIPTION:This workshop will focus on the current status of video anonymization\, which is the key to be able to share FOT video. \nMore information
URL:https://erticonetwork.com/event/fot-net-data-workshop-data-anonymization/
LOCATION:Unnamed Venue\, Gothenburg\, Sweden
CATEGORIES:ERTICO
GEO:57.70887;11.97456
END:VEVENT
BEGIN:VEVENT
DTSTART;TZID=Europe/Brussels:20160914T090000
DTEND;TZID=Europe/Brussels:20160914T170000
DTSTAMP:20260426T012247
CREATED:20160602T121821Z
LAST-MODIFIED:20160602T121821Z
UID:10011437-1473843600-1473872400@erticonetwork.com
SUMMARY:FOT-Net Data Hands-on Workshop on Data Re-use
DESCRIPTION:Date: 14 September 2016\nVenue: 3 locations (Aachen\, Gothenburg\, Helsinki).\nRemote access will also be possible.\n\nMore information
URL:https://erticonetwork.com/event/fot-net-data-hands-workshop-data-re-use/
CATEGORIES:ERTICO
END:VEVENT
BEGIN:VEVENT
DTSTART;TZID=Europe/Brussels:20160926T083000
DTEND;TZID=Europe/Brussels:20160926T233000
DTSTAMP:20260426T012247
CREATED:20160923T123410Z
LAST-MODIFIED:20160923T123410Z
UID:10011465-1474878600-1474932600@erticonetwork.com
SUMMARY:Open Day for the 12th European Congress in Strasbourg
DESCRIPTION:AGENDA \n08h30 – 09h00 : Welcome \n09h00 – 10h00 : Presentation on intelligent mobility challenges in a cross border region \nIntroduced by: Mrs Catherine Trautmann\, Eurometropolis of Strasbourg Economic Development Vice-President and President of Strasbourg Autonomous Port \n10h00 – 11h00 : Presentation on how to participate in the Congress \nPresented by the organiser: ERTICO ITS Europe \n11h00 – 11h30 : Networking and happy hour \n  \nREGISTRATION \nPLEASE REGSITER ON THE WEBSITE BY:23RD SEPTEMBER 2016 http://itscongressopenday.eventbrite.com \nIf you need any other information regarding the event\, please contact us below\, otherwise we look forward to seeing in in Strasbourg! \n\n\n\nBenoit Augarde\nSales and Sponsorship\ne: b.augarde@mail.ertico\nJasvinder Sidhu\nSales and Sponsorship\ne: j.sidhu@hgluk.com
URL:https://erticonetwork.com/event/open-day-12th-european-congress-strasbourg/
LOCATION:Palais de la Musique et des Congres de Strasbourg\, Place de Bordeaux\, \,  Strasbourg\, 67082 \, France
CATEGORIES:ERTICO,Policy & Strategy
ATTACH;FMTTYPE=image/png:https://erticonetwork.com/wp-content/uploads/2016/09/Logo-Ertico_pictos.png
GEO:48.5945714;7.7579955
X-APPLE-STRUCTURED-LOCATION;VALUE=URI;X-ADDRESS=Palais de la Musique et des Congres de Strasbourg Place de Bordeaux   Strasbourg 67082  France;X-APPLE-RADIUS=500;X-TITLE=Place de Bordeaux\,:geo:7.7579955,48.5945714
END:VEVENT
BEGIN:VEVENT
DTSTART;TZID=Europe/Brussels:20160926T093000
DTEND;TZID=Europe/Brussels:20160926T170000
DTSTAMP:20260426T012247
CREATED:20160822T124216Z
LAST-MODIFIED:20160822T124216Z
UID:10011295-1474882200-1474909200@erticonetwork.com
SUMMARY:Cloud LSVA - 1st Open group meeting
DESCRIPTION:Cloud LSVA Open work group meeting – 26 September \nThe open work group aims at enabling the Cloud LSVA project partners and other relevant automotive stakeholders\, not included in the Cloud LSVA consortium\, to work together on common topics of interest from the Cloud LSVA scope of work\, as for instance: \n\nVideo data acquisition\nVideo pre-processing and video annotation\nAutomating and measuring quality of annotations\nUse of virtual worlds\nNavigation data\nHD map production and HD lane model\nLocation based queries and crowdsourcing\n\nThe main goal of the open group is to trigger and support the development of suitable standards for the video data set and the video annotation. The standardization activity\, supported by Cloud LSVA in the Open group will also address: \n\nOntology of computer vision applied to ADAS\nVideo Data modelling\nData fusion format\nADAS metadata\n\nMore information and preliminary agenda available here
URL:https://erticonetwork.com/event/cloud-lsva-1st-open-group-meeting/
LOCATION:ERTICO- ITS Europe\, Blue Tower\, Avenue Louise 326\, Brussels\, 1050\, Belgium
CATEGORIES:ERTICO
ATTACH;FMTTYPE=image/jpeg:https://erticonetwork.com/wp-content/uploads/2016/08/Cloud_LSVA_Primary_Logo.jpg
GEO:50.8230535;4.3688928
X-APPLE-STRUCTURED-LOCATION;VALUE=URI;X-ADDRESS=ERTICO- ITS Europe Blue Tower Avenue Louise 326 Brussels 1050 Belgium;X-APPLE-RADIUS=500;X-TITLE=Avenue Louise 326:geo:4.3688928,50.8230535
END:VEVENT
BEGIN:VEVENT
DTSTART;TZID=Europe/Brussels:20160927T093000
DTEND;TZID=Europe/Brussels:20160927T170000
DTSTAMP:20260426T012247
CREATED:20160822T124044Z
LAST-MODIFIED:20160822T124044Z
UID:10011294-1474968600-1474995600@erticonetwork.com
SUMMARY:Cloud LSVA + inLane combined advisory board meeting
DESCRIPTION:The advisory board meeting aims at providing update about the Cloud LSVA and InLane project objectives and achievements to external experts in the field related to both projects. The role of the advisory boards is also to provide regular and meaningful input to the projects by external experts on the automotive sector. \nThe Advisory Board will meet along with consortium members at least once a year\, at specific project deliverables or milestones. It  will also serve as a dissemination path for the Cloud-LSVA and InLane projects. Actually Cloud LSVA and InLane projects have scope of works with significant similarities\, so that it is very useful to allow the advisory board members\, as well as as both project beneficiaries to meet together and exchange views. \nMore information and preliminary agenda available here \nFor more information on the projects\,  we invite you to have a look at the respective project websites: \n\nhttp://cloud-lsva.eu/\nhttp://inlane.eu/\n\n \n 
URL:https://erticonetwork.com/event/cloud-lsva-inlane-combined-advisory-board-meeting/
LOCATION:ERTICO- ITS Europe\, Blue Tower\, Avenue Louise 326\, Brussels\, 1050\, Belgium
CATEGORIES:ERTICO
GEO:50.8230535;4.3688928
X-APPLE-STRUCTURED-LOCATION;VALUE=URI;X-ADDRESS=ERTICO- ITS Europe Blue Tower Avenue Louise 326 Brussels 1050 Belgium;X-APPLE-RADIUS=500;X-TITLE=Avenue Louise 326:geo:4.3688928,50.8230535
END:VEVENT
END:VCALENDAR