BEGIN:VCALENDAR
VERSION:2.0
PRODID:-//ERTICO Newsroom - ECPv6.7.0//NONSGML v1.0//EN
CALSCALE:GREGORIAN
METHOD:PUBLISH
X-ORIGINAL-URL:https://erticonetwork.com
X-WR-CALDESC:Events for ERTICO Newsroom
REFRESH-INTERVAL;VALUE=DURATION:PT1H
X-Robots-Tag:noindex
X-PUBLISHED-TTL:PT1H
BEGIN:VTIMEZONE

END:VTIMEZONE
BEGIN:VEVENT
DTSTART;VALUE=DATE:20260420
DTEND;VALUE=DATE:20131206
DTSTAMP:20260420T180533
CREATED:20131205T202120Z
LAST-MODIFIED:20131205T202120Z
UID:10010922-0-1386284327@erticonetwork.com
SUMMARY:PTV event: Shaping Transportation 2014
DESCRIPTION:Today we have technologies and data that can drive us to intelligent and ecologically in real time optimize the flow of people and goods on what in most countries is a finite transport network. So rather than building our way out of congestion should we not be “sweating our transport infrastructure assets” in this more enlightened fashion? \nAt this year’s Shaping Transportation conference\, taking placefrom 26 to 28 May in Berlin\, foremost transport policy thinkers\, shapers and decision makers as well as our software users will discuss about “Join up Thinking – Create Intelligent Movements”. \nFor more information please see the PTV event website
URL:https://erticonetwork.com/event/ptv-event-shaping-transportation-2014/
LOCATION:71\, 71
CATEGORIES:ERTICO
ATTACH;FMTTYPE=image/png:https://erticonetwork.com/wp-content/uploads/2013/12/images_ptv_group_logo.png
END:VEVENT
BEGIN:VEVENT
DTSTART;TZID=Europe/Brussels:20131202T070000
DTEND;TZID=Europe/Brussels:20131204T160000
DTSTAMP:20260420T180533
CREATED:20130703T082522Z
LAST-MODIFIED:20130703T082522Z
UID:10011019-1385967600-1386172800@erticonetwork.com
SUMMARY:3rd International Conference on Models and Technologies for Intelligent Transport Systems
DESCRIPTION:  \nAfter the successful meetings in Rome in 2009 and 2011 in Leuven the 3rd International Conference on Models and Technologies for Intelligent Transport Systems (ITS) will be held in Dresden in December 2013. The main topic of this meeting will be the intermodal use of ITS in urban traffic. \nIn public transport vehicle related devices act as sensors for the acquisition and transfer of traffic data\, e. g. the positions of busses and trams which are sent to intermodal transport control systems (ITCS) or the communication between vehicles and traffic lights. In private traffic several systems based on vehicle’s on-board units or mobile devices have been tested and in part been put in operation within the last years. \nBased on vehicle-to-vehicle (V2V) and vehicle-to-infrastructure communication (V2I)\, an increasing market penetration of cooperative systems will affect traffic management in urban areas and might improve its possibilities. One of the prospective challenges is to combine data and information gathered by infrastructure related systems with the one of cooperative systems. Science has to deal with both\, possibilities and challenges\, to achieve additional benefit for the future intermodal mobility management. \nBeside this main topic\, the third edition of MT-ITS calls for papers on models and technologies of ITS for air\, rail and long-distance road transport. \nThe conference language is English. \n http://openaccess.tu-dresden.de/ocs/index.php/mtits/mt-its-2013 \n 
URL:https://erticonetwork.com/event/3rd-international-conference-on-models-and-technologies-for-intelligent-transport-systems/
LOCATION:48\, 48
END:VEVENT
BEGIN:VEVENT
DTSTART;TZID=Europe/Brussels:20131204T070000
DTEND;TZID=Europe/Brussels:20131205T160000
DTSTAMP:20260420T180533
CREATED:20130702T150046Z
LAST-MODIFIED:20130702T150046Z
UID:10011017-1386140400-1386259200@erticonetwork.com
SUMMARY:POLIS Annual Conference: Innovation in Transport for Sustainable Cities and Regions
DESCRIPTION:First announcement and call for speakers \n2013 ANNUAL POLIS CONFERENCE \nInnovation in Transport for Sustainable Cities and Regions   \nBrussels\, 4-5 December 2013 \n\n\n\n\n\n\n\n\n Download the call for speakers here. \n   \nThe call for speakers is covering a wide range of topics open under the core Polis themes of environment & health\, traffic efficiency & mobility\, road safety and the social and economic challenges. All abstracts should highlight the innovative dimension as well as the results achieved and lessons learned. \nAbstract submission for the 2013 Polis Conference is possible until 7 June 2013:  \n http://www.polisnetwork.eu/2013conference \n  
URL:https://erticonetwork.com/event/polis-annual-conference-innovation-in-transport-for-sustainable-cities-and-regions/
ATTACH;FMTTYPE=image/jpeg:https://erticonetwork.com/wp-content/uploads/2013/07/ih.constantcontact.com_fs123_1101092674590_img_468.jpg
END:VEVENT
BEGIN:VEVENT
DTSTART;TZID=Europe/Brussels:20131204T230000
DTEND;TZID=Europe/Brussels:20131206T225959
DTSTAMP:20260420T180533
CREATED:20131112T105655Z
LAST-MODIFIED:20131112T105655Z
UID:10010919-1386198000-1386370799@erticonetwork.com
SUMMARY:The Essentials of ITS
DESCRIPTION:Comprehensive insight into state-of-the-art methods\, technologies and into the benefits of ITS on an academic level \nDate: December 5th – 6th\, 2013Location: Politecnico di Torino\, corso Duca degli Abruzzi 24 Torino\, Italy \nLectures by renowned experts: \nProf. Dr.-Ing. Fritz Busch\, TU München \nProf. Dr.-Ing. B. Dalla Chiara\, Politecnico di Torino \nProf. Nick Hounsell\, University of Southampton \nDr. Albania Nissan\, KTH – Stockholm \nRegister now at: www.its-edunet.org \nITS-EduNet e.V.\, c/o Lehrstuhl für Verkehrstechnik – TU München – Arcissstraße 21 – D-80333 Germany
URL:https://erticonetwork.com/event/the-essentials-of-its/
END:VEVENT
BEGIN:VEVENT
DTSTART;TZID=Europe/Brussels:20131204T230000
DTEND;TZID=Europe/Brussels:20131206T225959
DTSTAMP:20260420T180533
CREATED:20131112T105900Z
LAST-MODIFIED:20131112T105900Z
UID:10010920-1386198000-1386370799@erticonetwork.com
SUMMARY:The Essentials of ITS
DESCRIPTION:Comprehensive insight into state-of-the-art methods\, technologies and into the benefits of ITS on an academic level \nDate: December 5th – 6th\, 2013Location: Politecnico di Torino\, corso Duca degli Abruzzi 24 Torino\, Italy \nLectures by renowned experts: \nProf. Dr.-Ing. Fritz Busch\, TU München \nProf. Dr.-Ing. B. Dalla Chiara\, Politecnico di Torino \nProf. Nick Hounsell\, University of Southampton \nDr. Albania Nissan\, KTH – Stockholm \nRegister now at: www.its-edunet.org \nITS-EduNet e.V.\, c/o Lehrstuhl für Verkehrstechnik – TU München – Arcissstraße 21 – D-80333 Germany
URL:https://erticonetwork.com/event/the-essentials-of-its-2/
END:VEVENT
BEGIN:VEVENT
DTSTART;TZID=Europe/Brussels:20131213T090000
DTEND;TZID=Europe/Brussels:20131213T170000
DTSTAMP:20260420T180533
CREATED:20131122T125632Z
LAST-MODIFIED:20131122T125632Z
UID:10011050-1386925200-1386954000@erticonetwork.com
SUMMARY:Open workshop on project expectations and traffic control policies
DESCRIPTION:COLOMBO\nCooperative Self-Organizing System for low Carbon Mobility at low Penetration Rates \nOpen workshop on project expectations and traffic control policies\nFriday December 13th 10:00 – 16:00\, Université libre de Bruxelles \nUniversité Libre de BruxellesCampus du SolboschBuilding C\, 5th floorAv. Adolphe Buyl\, 871050 Brussels \nAgenda \n09:45 Welcome with coffee \n10:00 Project overview presentation \n10:30 Low penetration traffic monitoring \n11:15 Coffee break \n11:30 Emission modeling with PHEM \n12:00 Automatic configuration \n12:30 Lunch \n13:30 Traffic control policies \n15:00 Coffee break \n5:15 Traffic and communicationsimulation tools \n15:45 Conclusion and final remarks \n16:00 End \n  \nAbout the event; What project outcome do stakeholders anticipate? At the time of this workshop\, the Colombo project will enter its second year and would like to present the results of the first year to all stakeholders. Apart fr
URL:https://erticonetwork.com/event/open-workshop-on-project-expectations-and-traffic-control-policies/
END:VEVENT
BEGIN:VEVENT
DTSTART;TZID=Europe/Brussels:20131218T080000
DTEND;TZID=Europe/Brussels:20131218T170000
DTSTAMP:20260420T180533
CREATED:20131107T132305Z
LAST-MODIFIED:20131107T132305Z
UID:10010918-1387353600-1387386000@erticonetwork.com
SUMMARY:Smart\, Green and Integrated Transport: EC Information Day
DESCRIPTION:The first round of calls under the Smart\, Green and Integrated Transport challenge of the new Horizon 2020 Framework Programme will be published at the end of the year. \nTo support the preparation of proposals\, the Transport Directorate of the European Commission’s Research and Innovation Directorate-General is organising an Information Day on 18 December 2013from 9 AM till 6 PM in the Charlemagne building\, rue de la Loi 170\, Brussels. \nThe aim of the day is to inform potential participants in the first round of calls under the Smart\, Green and Integrated Transport Challenge of the new Horizon 2020 Framework Programme and to offer some unique opportunities for networking. \nThe morning sessions will deliver an overall presentation of the surface transport\, the aviation and the cross-cutting topics of the Transport challenge Work Programme 2014-15. \nInformation will also be given on the Evaluation Guidelines and on the new legal and financial Rules for participation covering all aspects from the submission of a proposal to the signature of a grant agreement. \nAt the end of the morning\, participants will be provided with an introduction on the Participant Portal\, as well as on the services offered by the National Contact Points network (NCP). \nThe afternoon session – 14h00-18h00 – will be divided between two major items – Q&A sessions followed by a brokerage event. \nTechnical Q&A sessions \nIn the first part of the afternoon\, three technical Q&A sessions will take place in parallel on: \n\nmodal topics (rail\, road and waterborne)\, socio-economic topics and clean vehicles;\ncross-cutting topics (urban mobility\, logistics\, infrastructure\, ITS);\naviation topics.\n\nThe participants will have the opportunity to address specific technical questions related to the Work Programme 2014-2015 to European Commission’s project officers. \nBrokerage event \nIn the second part of the afternoon\, a brokerage event\, also organised in parallel sessions\, will allow selected participants to present project ideas and partners profiles. \nMore details on the content will be provided upon selection of the partner profiles and project ideas submitted.Registration to the Information Day event is mandatory for being able to register to the  afternoon brokerage event. The Brokerage Event is organised by the European Commission in co-operation with the Transport National Contact Points network – the European Transport NCP Alliance (ETNA Plus). \nRegister online here: http://ec.europa.eu/research/transport/events/infoday2013/index_en.htm
URL:https://erticonetwork.com/event/smart-green-and-integrated-transport-ec-information-day/
END:VEVENT
BEGIN:VEVENT
DTSTART;TZID=Europe/Brussels:20131218T230000
DTEND;TZID=Europe/Brussels:20131219T225959
DTSTAMP:20260420T180533
CREATED:20131125T152759Z
LAST-MODIFIED:20131125T152759Z
UID:10011053-1387407600-1387493999@erticonetwork.com
SUMMARY:ERTICO Partnership Project Proposal Workshop
DESCRIPTION:ERTICO is organising a workshop on the New EC Project Proposal opportunities for Horizon 2020 \nContact: Vincent Blervaque
URL:https://erticonetwork.com/event/ertico-partnership-project-proposal-workshop/
LOCATION:2\, 2
CATEGORIES:ERTICO
END:VEVENT
END:VCALENDAR