BEGIN:VCALENDAR
VERSION:2.0
PRODID:-//ERTICO Newsroom - ECPv6.7.0//NONSGML v1.0//EN
CALSCALE:GREGORIAN
METHOD:PUBLISH
X-ORIGINAL-URL:https://erticonetwork.com
X-WR-CALDESC:Events for ERTICO Newsroom
REFRESH-INTERVAL;VALUE=DURATION:PT1H
X-Robots-Tag:noindex
X-PUBLISHED-TTL:PT1H
BEGIN:VTIMEZONE
TZID:Europe/Brussels
BEGIN:DAYLIGHT
TZOFFSETFROM:+0100
TZOFFSETTO:+0200
TZNAME:CEST
DTSTART:20150329T010000
END:DAYLIGHT
BEGIN:STANDARD
TZOFFSETFROM:+0200
TZOFFSETTO:+0100
TZNAME:CET
DTSTART:20151025T010000
END:STANDARD
END:VTIMEZONE
BEGIN:VEVENT
DTSTART;VALUE=DATE:20151209
DTEND;VALUE=DATE:20151212
DTSTAMP:20260419T151412
CREATED:20141105T093606Z
LAST-MODIFIED:20150616T033641Z
UID:10011219-1449619200-1449878399@erticonetwork.com
SUMMARY:TISA Committee meetings
DESCRIPTION:
URL:https://erticonetwork.com/event/tisa-committee-meetings-3/
CATEGORIES:ERTICO
END:VEVENT
BEGIN:VEVENT
DTSTART;VALUE=DATE:20151217
DTEND;VALUE=DATE:20151218
DTSTAMP:20260419T151412
CREATED:20151207T085034Z
LAST-MODIFIED:20151216T163707Z
UID:10011351-1450310400-1450396799@erticonetwork.com
SUMMARY:I_HeERO Workshop "eCall Up on Air"
DESCRIPTION:First Portuguese I_HeERO Workshop entitled “eCall Up on Air” will be held in Lisbon\, in the premises of the Ministry of Internal Affairs on the 17th December 2015. \neCall Up on Air Workshop\nVenue – Ministry of Internal Affairs\, Terreiro do Paço\, Lisbon \nAgenda: \n09:30 – Registry \n10:00 – Welcome Note | Dr. Carlos Palma – Secretary General of the Ministry of Internal Administration \n10:15 – SGMAI  – The  eCall and the I_HeERO project – Coronel Vitor Judícibus – Portuguese Project Coordinator \n10:35 – Partners Presentations: \n10:35 – IMT  I.P | Dr. Paulo de Andrade – IMT-I.P President \n10:45 – MEO | Dr.ª Ana Sofia Marques – Diretora Comercial PT Empresas \n10:55 – GMV | Engº. Paulo Gomes – GMV Portugal Administrator \n11:05 – Intergraph/Hexagon | Dr. Domingos Lourenço – Country Manager \n11:15 – IEP | Eng. Jorge Serra – IEP Deputy General Director \n11:25 – 12:00 – Coffee Break (Possibility to visit an eCall equipped test vehicle) \n12:00 – 112 eCall Live Test Presentation \n12:15 – Final Questions \n12:30 – Closing Note | Dr. Jorge Gomes  – Secretary of State of Internal Administration \n  \nAll I_HeERO partners are welcome to attend this event.
URL:https://erticonetwork.com/event/i_heero-workshop-in-lisbon/
LOCATION:Ministry of Internal Affairs\, Terreiro do Paço\, Lisbon\, Portugal
CATEGORIES:Policy & Strategy,Safe ITS
ATTACH;FMTTYPE=image/jpeg:https://erticonetwork.com/wp-content/uploads/2015/12/iHeERO-Logo_v1-e1449478931345.jpg
GEO:38.7222524;-9.1393366
END:VEVENT
BEGIN:VEVENT
DTSTART;VALUE=DATE:20151217
DTEND;VALUE=DATE:20151220
DTSTAMP:20260419T151412
CREATED:20150806T132415Z
LAST-MODIFIED:20150806T132415Z
UID:10011341-1450310400-1450569599@erticonetwork.com
SUMMARY:International Symposium and Exhibition on Transportation Technologies
DESCRIPTION:The Transist 2015 – 8th International Symposium and Exhibition on Transportation Technologies will take place by the cooperation of Istanbul Metropolitan Municipalityand IETT with the theme of “4P of Public Transport: Planning\, Productivity\, Parking\, Paratransit” on 17 – 19 December 2015 at Istanbul Congress Center.\nObjectives:\n* Providing information sharing on transportation sector\,\n* Following the technologies and innovations closely\,\n* Promoting the culture of public transport\,\n* Creating and developing the standards of urban public transport\,\n* Improving the attractiveness of the public transport\,\n* Determining the needs for legal arrangements about urban public transport\,\n* Directing private car users to public transport \n  \nFor more information\, click here
URL:https://erticonetwork.com/event/international-symposium-and-exhibition-on-transportation-technologies/
LOCATION:Unnamed Venue\, Istanbul\, Turkey
CATEGORIES:Industry Events
ATTACH;FMTTYPE=image/png:https://erticonetwork.com/wp-content/uploads/2015/08/logo.png
GEO:41.0082376;28.9783589
END:VEVENT
END:VCALENDAR