BEGIN:VCALENDAR
VERSION:2.0
PRODID:-//ERTICO Newsroom - ECPv6.7.0//NONSGML v1.0//EN
CALSCALE:GREGORIAN
METHOD:PUBLISH
X-ORIGINAL-URL:https://erticonetwork.com
X-WR-CALDESC:Events for ERTICO Newsroom
REFRESH-INTERVAL;VALUE=DURATION:PT1H
X-Robots-Tag:noindex
X-PUBLISHED-TTL:PT1H
BEGIN:VTIMEZONE
TZID:Europe/Brussels
BEGIN:DAYLIGHT
TZOFFSETFROM:+0100
TZOFFSETTO:+0200
TZNAME:CEST
DTSTART:20160327T010000
END:DAYLIGHT
BEGIN:STANDARD
TZOFFSETFROM:+0200
TZOFFSETTO:+0100
TZNAME:CET
DTSTART:20161030T010000
END:STANDARD
END:VTIMEZONE
BEGIN:VEVENT
DTSTART;VALUE=DATE:20160301
DTEND;VALUE=DATE:20160304
DTSTAMP:20260421T072442
CREATED:20160108T094721Z
LAST-MODIFIED:20160108T094721Z
UID:10011358-1456790400-1457049599@erticonetwork.com
SUMMARY:IT-TRANS 2016
DESCRIPTION:IT trends and innovations for public transport\nhttp://www.it-trans.org/en/home/homepage.jsp
URL:https://erticonetwork.com/event/it-trans-2016/
LOCATION:Unnamed Venue\, Rheinstetten\, Germany
CATEGORIES:Industry Events
GEO:48.9618109;8.292246
END:VEVENT
BEGIN:VEVENT
DTSTART;VALUE=DATE:20160302
DTEND;VALUE=DATE:20160304
DTSTAMP:20260421T072442
CREATED:20160108T094914Z
LAST-MODIFIED:20160108T094914Z
UID:10011359-1456876800-1457049599@erticonetwork.com
SUMMARY:URBAN FUTURE Global Conference
DESCRIPTION:The URBAN FUTURE is Central Europe’s biggest conference for sustainable cities. \nOver the course of two days\, international and domestic experts as well as specialists from cities of all sizes exchange views on best practices and projects that have already been executed and make cities more sustainable. No marketing blah blah\, just concrete content on what works and what doesn‘t. \nhttp://www.urbanfuture.at/en/
URL:https://erticonetwork.com/event/urban-future-global-conference/
LOCATION:Unnamed Venue\, Graz\, Austria
CATEGORIES:Policy & Strategy
GEO:47.070714;15.439504
END:VEVENT
BEGIN:VEVENT
DTSTART;VALUE=DATE:20160303
DTEND;VALUE=DATE:20160304
DTSTAMP:20260421T072442
CREATED:20160108T105055Z
LAST-MODIFIED:20160108T105055Z
UID:10011372-1456963200-1457049599@erticonetwork.com
SUMMARY:Vulnerable road-user safety and ITS
DESCRIPTION:The final event of the VRUITS project will be held at Transport for London. \nVRUITS has investigated and piloted a range of Intelligent Transport Systems (ITS) to enhance the safety of pedestrians\, cyclists and powered two-wheeler riders\, including: \n\ninfrastructure-based ITS such as the ‘intelligent pedestrian traffic signal’\nvehicle-based ITS such as ‘blind-spot detection’ and ‘pedestrian-detection systems & emergency breaking’\nuser-centric systems such as ‘green wave for cyclists’ or ‘in-vehicle information on approaching powered two-wheeler’\n\nhttp://www.vruits.eu/
URL:https://erticonetwork.com/event/vulnerable-road-user-safety-and-its/
LOCATION:Unnamed Venue\, London\, United Kingdom
CATEGORIES:Safe ITS
GEO:51.5073509;-0.1277583
END:VEVENT
BEGIN:VEVENT
DTSTART;VALUE=DATE:20160303
DTEND;VALUE=DATE:20160304
DTSTAMP:20260421T072442
CREATED:20160108T105523Z
LAST-MODIFIED:20160108T105523Z
UID:10011373-1456963200-1457049599@erticonetwork.com
SUMMARY:Cooperative vehicles and infrastructure workshop
DESCRIPTION:http://www.polisnetwork.eu/publicevents/341/61/Cooperative-vehicles-and-infrastructure-workshop
URL:https://erticonetwork.com/event/cooperative-vehicles-and-infrastructure-workshop/
LOCATION:Unnamed Venue\, London\, United Kingdom
CATEGORIES:Smart ITS
GEO:51.5073509;-0.1277583
END:VEVENT
BEGIN:VEVENT
DTSTART;VALUE=DATE:20160303
DTEND;VALUE=DATE:20160304
DTSTAMP:20260421T072442
CREATED:20160216T093126Z
LAST-MODIFIED:20160216T093126Z
UID:10011396-1456963200-1457049599@erticonetwork.com
SUMMARY:Symposium on The Future Networked Car 2016
DESCRIPTION:Intelligent transport systems and automated driving are fast moving towards widespread commercialization and market acceptance. High levels of automation are expected on the road by 2020 and hold great promise to improve road safety\, reduce congestion and emissions\, and increase the accessibility of personal mobility to the elderly and persons with disabilities. \nHeld on the first public day of the Geneva International Motor Show\, this international symposium will bring together representatives of vehicle manufacturers\, the automotive and information and communication technology (ICT) industries\, governments and their regulators to discuss the status and future of vehicle communications and automated driving. The Future Networked Car will examine advances in the area of connected vehicles\, from the perspectives of business\, technology and regulation. Technical sessions will highlight the crucial roles of connectivity\, information security and privacy. The symposium will also discuss how standards bodies can best collaborate to meet industry needs and to achieve interoperability. \nhttp://www.unece.org/index.php?id=42197#/
URL:https://erticonetwork.com/event/symposium-on-the-future-networked-car-2016/
LOCATION:Unnamed Venue\, Geneva\, Switzerland
CATEGORIES:Smart ITS
GEO:46.2043907;6.1431577
END:VEVENT
BEGIN:VEVENT
DTSTART;TZID=Europe/Brussels:20160303T103000
DTEND;TZID=Europe/Brussels:20160303T150000
DTSTAMP:20260421T072442
CREATED:20160222T140448Z
LAST-MODIFIED:20160222T140448Z
UID:10011399-1457001000-1457017200@erticonetwork.com
SUMMARY:Buses & Coaches at a Crossroads: Long-Distance and Innovation
DESCRIPTION:The passenger transport market is undergoing a revolution in several EU Member States and across the world\, due to the liberalisation of national long-distance coach markets and the emergence of new innovative players. Join us to discover the latest developments. \nSpeakers are confirmed from the bus and coach transport industry\, mutinationals and SMEs\, tech companies as well as EU decision makers. \nDiscover the programme here.
URL:https://erticonetwork.com/event/buses-coaches-at-a-crossroads-long-distance-and-innovation/
LOCATION:Thon Hotel\, Rue de la Loi 75\, Brussels\, Belgium
GEO:50.8439717;4.3753209
X-APPLE-STRUCTURED-LOCATION;VALUE=URI;X-ADDRESS=Thon Hotel Rue de la Loi 75 Brussels Belgium;X-APPLE-RADIUS=500;X-TITLE=Rue de la Loi 75:geo:4.3753209,50.8439717
END:VEVENT
BEGIN:VEVENT
DTSTART;VALUE=DATE:20160308
DTEND;VALUE=DATE:20160309
DTSTAMP:20260421T072442
CREATED:20160108T090953Z
LAST-MODIFIED:20160108T090953Z
UID:10011354-1457395200-1457481599@erticonetwork.com
SUMMARY:FOT-Net Data Workshop
DESCRIPTION:http://fot-net.eu/events/
URL:https://erticonetwork.com/event/fot-net-data-workshop/
LOCATION:Unnamed Venue\, Brussels\, Belgium
CATEGORIES:ERTICO
GEO:50.8503396;4.3517103
END:VEVENT
BEGIN:VEVENT
DTSTART;VALUE=DATE:20160310
DTEND;VALUE=DATE:20160311
DTSTAMP:20260421T072442
CREATED:20160119T101415Z
LAST-MODIFIED:20160119T101702Z
UID:10011388-1457568000-1457654399@erticonetwork.com
SUMMARY:OPTICITIES Study Visit
DESCRIPTION:  \n  \n  \nhttp://www.opticities.com/stakeholder-forum/forum-events/
URL:https://erticonetwork.com/event/opticities-study-visit/
LOCATION:Unnamed Venue\, Lyon\, France
CATEGORIES:ERTICO
GEO:45.764043;4.835659
END:VEVENT
BEGIN:VEVENT
DTSTART;VALUE=DATE:20160315
DTEND;VALUE=DATE:20160318
DTSTAMP:20260421T072442
CREATED:20160217T083813Z
LAST-MODIFIED:20160217T083813Z
UID:10011397-1458000000-1458259199@erticonetwork.com
SUMMARY:UNIMED Week 2016
DESCRIPTION:UNIMED WEEK IN BRUSSELS seeks to propose a political reflection from the Euro-Mediterranean academic community about the role of the European Parliament and the European Union itself in the Mediterranean region\, offering a moment of evaluation and revaluation of regional policies. \n\nhttp://www.uni-med.net/en/save-the-date-for-the-unimed-week-in-brussels-march-15th-to-17th-2016/
URL:https://erticonetwork.com/event/unimed-week-2016/
LOCATION:Unnamed Venue\, Brussels\, Belgium
CATEGORIES:Policy & Strategy
GEO:50.8503396;4.3517103
END:VEVENT
BEGIN:VEVENT
DTSTART;VALUE=DATE:20160315
DTEND;VALUE=DATE:20160319
DTSTAMP:20260421T072442
CREATED:20160111T103949Z
LAST-MODIFIED:20160111T103949Z
UID:10011377-1458000000-1458345599@erticonetwork.com
SUMMARY:EDBT/ICDT 2016 Joint Conference
DESCRIPTION:19th International Conference on Extending Database Technology\nhttp://edbticdt2016.labri.fr/
URL:https://erticonetwork.com/event/edbticdt-2016-joint-conference/
LOCATION:Unnamed Venue\, Bordeaux\, France
CATEGORIES:Policy & Strategy
GEO:44.837789;-0.57918
END:VEVENT
BEGIN:VEVENT
DTSTART;VALUE=DATE:20160323
DTEND;VALUE=DATE:20160326
DTSTAMP:20260421T072442
CREATED:20160108T100931Z
LAST-MODIFIED:20160108T100931Z
UID:10011363-1458691200-1458950399@erticonetwork.com
SUMMARY:5th International Conference on Smart Cities and Green ICT Systems
DESCRIPTION:SMARTGREENS 2016 will be held in conjunction with CSEDU 2016\, WEBIST 2016\, CLOSER 2016\, VEHITS 2016 and IoTBD 2016. \nhttp://www.smartgreens.org/
URL:https://erticonetwork.com/event/5th-international-conference-on-smart-cities-and-green-ict-systems/
LOCATION:Unnamed Venue\, Rome\, Italy
CATEGORIES:Clean ITS
GEO:41.9027835;12.4963655
END:VEVENT
END:VCALENDAR