BEGIN:VCALENDAR
VERSION:2.0
PRODID:-//ERTICO Newsroom - ECPv6.7.0//NONSGML v1.0//EN
CALSCALE:GREGORIAN
METHOD:PUBLISH
X-WR-CALNAME:ERTICO Newsroom
X-ORIGINAL-URL:https://erticonetwork.com
X-WR-CALDESC:Events for ERTICO Newsroom
REFRESH-INTERVAL;VALUE=DURATION:PT1H
X-Robots-Tag:noindex
X-PUBLISHED-TTL:PT1H
BEGIN:VTIMEZONE
TZID:Europe/Brussels
BEGIN:DAYLIGHT
TZOFFSETFROM:+0100
TZOFFSETTO:+0200
TZNAME:CEST
DTSTART:20160327T010000
END:DAYLIGHT
BEGIN:STANDARD
TZOFFSETFROM:+0200
TZOFFSETTO:+0100
TZNAME:CET
DTSTART:20161030T010000
END:STANDARD
END:VTIMEZONE
BEGIN:VEVENT
DTSTART;VALUE=DATE:20160405
DTEND;VALUE=DATE:20160408
DTSTAMP:20260420T175736
CREATED:20160108T100158Z
LAST-MODIFIED:20160108T100417Z
UID:10011361-1459814400-1460073599@erticonetwork.com
SUMMARY:Smart Cities Exhibition and Conference
DESCRIPTION:INTELLIGENT BUILDINGS\, ICT\, TRANSPORT & MOBILITY \nhttp://viaexpo.com/htdocs/images/fm/Brochure_Smart-EN-WEB.pdf
URL:https://erticonetwork.com/event/smart-cities-exhibition-and-conference/
LOCATION:Unnamed Venue\, Sofia\, Bulgaria
CATEGORIES:Policy & Strategy
GEO:42.6977082;23.3218675
END:VEVENT
BEGIN:VEVENT
DTSTART;VALUE=DATE:20160406
DTEND;VALUE=DATE:20160407
DTSTAMP:20260420T175736
CREATED:20160324T091930Z
LAST-MODIFIED:20160324T091930Z
UID:10011408-1459900800-1459987199@erticonetwork.com
SUMMARY:Smart Cities side event
DESCRIPTION:H3B Media and the Thinking Cities Alliance are organising a Smart Cities Side-Event at Intertraffic Amsterdam. The half-day event takes place on Wednesday 6 April\, in an especially modified conference room within the RAI and includes a smart city mobility technology tour around the exhibition floor\, site visits in Amsterdam\, an opening plenary featuring keynote speeches and short films\, and 11 parallel Thinking Cities Roundtable Discussions. \nFor more information and to register\, click here.
URL:https://erticonetwork.com/event/smart-cities-side-event/
LOCATION:Amsterdam\, Netherlands
CATEGORIES:Smart ITS
GEO:52.132633;5.291266
END:VEVENT
BEGIN:VEVENT
DTSTART;VALUE=DATE:20160412
DTEND;VALUE=DATE:20160414
DTSTAMP:20260420T175736
CREATED:20160119T140242Z
LAST-MODIFIED:20160119T140242Z
UID:10011389-1460419200-1460591999@erticonetwork.com
SUMMARY:European SUMP conference
DESCRIPTION:Over 300 delegates are expected to attend the free conference\, the principal annual event for all those involved in turning the Sustainable Urban Mobility Plan (SUMP) concept into practice. \nThe European Commissioner for Transport\, Violeta Bulc\, is one of many speakers already confirmed for the event\, which is taking place on 12 and 13 April 2016. Ms Bulc will lead an interactive discussion on how the take-up of the SUMP concept can be accelerated across Europe. \nAlso in Bremen is Nikolaus von Peter from the Cabinet of the Commissioner for Transport\, who will outline the latest European Union policy initiatives\, and Rainer Bomba\, State Secretary from the German Federal Ministry for Transport and Digital Infrastructure. \nMore information
URL:https://erticonetwork.com/event/european-sump-conference/
CATEGORIES:Policy & Strategy
END:VEVENT
BEGIN:VEVENT
DTSTART;VALUE=DATE:20160412
DTEND;VALUE=DATE:20160415
DTSTAMP:20260420T175736
CREATED:20160216T092958Z
LAST-MODIFIED:20160216T092958Z
UID:10011395-1460419200-1460678399@erticonetwork.com
SUMMARY:SAE 2016 World Congress
DESCRIPTION:The SAE 2016 World Congress assembles the best talent in the automotive industry; experts\, management teams\, engineers\, and executives alike gather to collaborate and address current challenges\, seek new windows for discovery and exploration\, and promote the multitude of opportunities fundamental for a successful future. This year’s theme\, Powering Possibilities\, represents a world of untapped discoveries in the automotive industry. \nhttps://www.sae.org/congress/
URL:https://erticonetwork.com/event/sae-2016-world-congress/
LOCATION:Unnamed Venue\, Detroit\, United States
CATEGORIES:Industry Events
GEO:42.331427;-83.0457538
END:VEVENT
BEGIN:VEVENT
DTSTART;TZID=Europe/Brussels:20160418T090000
DTEND;TZID=Europe/Brussels:20160421T170000
DTSTAMP:20260420T175736
CREATED:20150202T113753Z
LAST-MODIFIED:20150616T033727Z
UID:10011270-1460970000-1461258000@erticonetwork.com
SUMMARY:Transport Research Arena (TRA 2016) Conference
DESCRIPTION:National Stadium Warsaw\, Poland\nApril 18-21\, 2016 \nSpecial invitation from Prof. Leszek Rafalski\, the Chair of TRA2016 Program Committee and Director of the IBDiM \nYou can start your submission process here \nContact: office@tra2016.eu
URL:https://erticonetwork.com/event/transport-research-arena-tra-2016-conference/
END:VEVENT
BEGIN:VEVENT
DTSTART;VALUE=DATE:20160419
DTEND;VALUE=DATE:20160420
DTSTAMP:20260420T175736
CREATED:20160224T091049Z
LAST-MODIFIED:20160224T091303Z
UID:10011402-1461024000-1461110399@erticonetwork.com
SUMMARY:Road Transport Conference
DESCRIPTION:The conference will gather representatives from Member States\, Members of the European Parliament and key stakeholders for a day of intensive discussions and workshops to discuss the planned Road Initiatives as announced in the 2016 Commission Work Programme. \nThe conference will be opened by Ms Violeta Bulc\, European Commissioner for Transport\, together with Mr Michael Cramer\, Chair of the transport and tourism Committee of the European Parliament and the Dutch EU-Presidency. Conclusions will be drawn by Mr Henrik Hololei\, Director-General of Directorate-General for Mobility and Transport. \nFor more information and registration\, visit the website.
URL:https://erticonetwork.com/event/road-transport-conference/
LOCATION:Charlemagne Building\, Brussels\, Belgium
CATEGORIES:Policy & Strategy
GEO:50.8503396;4.3517103
END:VEVENT
BEGIN:VEVENT
DTSTART;VALUE=DATE:20160419
DTEND;VALUE=DATE:20160421
DTSTAMP:20260420T175736
CREATED:20160225T085702Z
LAST-MODIFIED:20160225T100533Z
UID:10011405-1461024000-1461196799@erticonetwork.com
SUMMARY:Connected Fleets Europe
DESCRIPTION:The Connected Fleets Europe Conference & Exhibition returns to Amsterdam. Here\, the latest industry trends\, from data privacy to new growth areas\, will be addressed by 25+ expert speakers including Scania\, Leaseplan\, Continental\, Worldline and Hertz. \nThe event brings 200+ senior attendees from all across the connected fleet’s value chain\, and with dedicated networking sessions\, it represents the perfect opportunity to forge new partnerships. \nCoupled with the unrivalled opportunity to find out how your competitors and the wider industry are moving forward with connectivity; this is one event that must be added to your calendar. \nTopics being discussed include data monetisation and analytics\, the state of date privacy in the fleet space\, the road to ADAS & autonomy along with how to exploit the growth areas of the rental\, leasing and LCV space. \nFor more information\, visit the website.
URL:https://erticonetwork.com/event/connected-fleets-europe/
CATEGORIES:Industry Events
END:VEVENT
BEGIN:VEVENT
DTSTART;TZID=Europe/Brussels:20160420T090000
DTEND;TZID=Europe/Brussels:20160420T170000
DTSTAMP:20260420T175736
CREATED:20160119T101038Z
LAST-MODIFIED:20160119T101038Z
UID:10011387-1461142800-1461171600@erticonetwork.com
SUMMARY:TRA Workshop: Academia and Job Market: How to Match?
DESCRIPTION:TRA2016 – workshop\nWednesday\, 20 April 2015\nTheme “Building European transport academic excellence: which offer to students? which contribution to onnovation” \n\nTRA organises this year a workshop\, mainly aimed at young students\, that ill highlight the various opportunities offered by high level studies in transport disciplines\, as well as stimulate an in-depth analysis of the need for new academic curricula to respond to the modern l needs of industry. \nFurthermore\, Europe is still missing a strong network of academic excellence centres in transport. The workshop should be the first step towards the creation of scientific connections between universities and research centres at the European level to be integrated into the existing research associations and thus fulfil an important gap in the landscape of transport science in Europe. \nFor a full summary of the session TRA 2016 Workshop Academia and Job Market – How to Match \nTo register for TRA and workshop\, click here
URL:https://erticonetwork.com/event/tra-workshop-academia-and-job-market-how-to-match/
CATEGORIES:Industry Events
END:VEVENT
BEGIN:VEVENT
DTSTART;VALUE=DATE:20160421
DTEND;VALUE=DATE:20160423
DTSTAMP:20260420T175736
CREATED:20160321T140736Z
LAST-MODIFIED:20160321T140736Z
UID:10011407-1461196800-1461369599@erticonetwork.com
SUMMARY:AdaptIVe Technical Workshop “Developing Automated Driving”
DESCRIPTION:The AdaptIVe project organises a technical workshop on driving automation in Athens. The workshop will follow the tradition of previous projects focusing on technical developments and challenges\, evaluation and validation as well as legal aspects. \nExperts from the research sector and from the industry will present the latest developments in sensors and advanced sensor fusion\, automated driving applications and human factors. In addition\, evaluation and validation of automated vehicles will be discussed and state-of-the-art methodologies and tools will be presented. The workshop will be concluded by presenting the developments and challenges for automation from the legal and liability point of view. \nFor more information on the project\, click here; to register\, click here.
URL:https://erticonetwork.com/event/adaptive-technical-workshop-developing-automated-driving/
LOCATION:Athens\, Greece
CATEGORIES:Smart ITS
GEO:39.074208;21.824312
END:VEVENT
BEGIN:VEVENT
DTSTART;VALUE=DATE:20160423
DTEND;VALUE=DATE:20160425
DTSTAMP:20260420T175736
CREATED:20160108T100808Z
LAST-MODIFIED:20160108T100808Z
UID:10011362-1461369600-1461542399@erticonetwork.com
SUMMARY:2nd International Conference on Vehicle Technology and ITS
DESCRIPTION:VEHITS 2016  \nThe purpose of the 2nd International Conference on Vehicle Technology and Intelligent Transport Systems (VEHITS) is to bring together engineers\, researchers and practitioners interested in the advances and applications in the field of Vehicle Technology and Intelligent Transport Systems. \nThis conference focuses on innovative applications\, tools and platforms in all technology areas such as signal processing\, wireless communications\, informatics and electronics\, related to different kinds of vehicles\, including cars\, off-road vehicles\, trains\, ships\, underwater vehicles\, or flying machines\, and the intelligent transportation systems that connect and manage large numbers of vehicles\, not only in the context of smart cities but in many other application domains. \nhttp://www.vehits.org/
URL:https://erticonetwork.com/event/2nd-international-conference-on-vehicle-technology-and-its/
LOCATION:Unnamed Venue\, Rome\, Italy
CATEGORIES:Smart ITS
GEO:41.9027835;12.4963655
END:VEVENT
BEGIN:VEVENT
DTSTART;VALUE=DATE:20160426
DTEND;VALUE=DATE:20160428
DTSTAMP:20260420T175736
CREATED:20160108T101302Z
LAST-MODIFIED:20160108T101302Z
UID:10011364-1461628800-1461801599@erticonetwork.com
SUMMARY:Smart to Future Cities & Urban IoT 2016
DESCRIPTION:http://smarttofuture.com/
URL:https://erticonetwork.com/event/smart-to-future-cities-urban-iot-2016/
LOCATION:Unnamed Venue\, London\, United Kingdom
CATEGORIES:Smart ITS
GEO:51.5073509;-0.1277583
END:VEVENT
BEGIN:VEVENT
DTSTART;VALUE=DATE:20160427
DTEND;VALUE=DATE:20160429
DTSTAMP:20260420T175736
CREATED:20160325T134612Z
LAST-MODIFIED:20160325T134612Z
UID:10011409-1461715200-1461887999@erticonetwork.com
SUMMARY:Opticities Tutorial Session and Study Visit
DESCRIPTION:Opticities is organising a two day tutorial session and study visit in Madrid 27 and 28 April. The events will combine expert presentations and live demonstrations focusing on innovative ITS services. \nThis study visit targets primarily local authorities\, mobility managers and industrial ITS stakeholders. Participation is limited to 35 persons. \nPlease register before 15 April to express your interest in participating. \nClick through to view more information\, details on registering! \nLearn more about Opticities at http://www.opticities.com
URL:https://erticonetwork.com/event/opticities-tutorial-session-study-visit/
LOCATION:CRTM premises\, Descubridor Diego de Ordás Square\, 3\, Madrid\, 28003\, Spain
GEO:40.4408451;-3.7001656
X-APPLE-STRUCTURED-LOCATION;VALUE=URI;X-ADDRESS=CRTM premises Descubridor Diego de Ordás Square 3 Madrid 28003 Spain;X-APPLE-RADIUS=500;X-TITLE=Descubridor Diego de Ordás Square\, 3:geo:-3.7001656,40.4408451
END:VEVENT
BEGIN:VEVENT
DTSTART;VALUE=DATE:20160427
DTEND;VALUE=DATE:20160430
DTSTAMP:20260420T175736
CREATED:20160108T110120Z
LAST-MODIFIED:20160108T110120Z
UID:10011374-1461715200-1461974399@erticonetwork.com
SUMMARY:8th European Conference on Sustainable Cities & Towns
DESCRIPTION:The 8th European Conference on Sustainable Cities & Towns (link is external)\, held from 27-29 April 2016 in the Basque Country\, takes place at a crucial time – following the UN Summit for the Adoption of the Post-2015 Development Agenda and the Climate Conference of the Parties (COP 21) in Paris\, which is expected to result in a post-Kyoto framework to address climate change. \nhttp://conferences.sustainablecities.eu/basquecountry2016/
URL:https://erticonetwork.com/event/8th-european-conference-on-sustainable-cities-towns/
LOCATION:Unnamed Venue\, Bilbao\, Spain
CATEGORIES:Clean ITS
GEO:43.2630126;-2.9349852
END:VEVENT
END:VCALENDAR