BEGIN:VCALENDAR
VERSION:2.0
PRODID:-//ERTICO Newsroom - ECPv6.7.0//NONSGML v1.0//EN
CALSCALE:GREGORIAN
METHOD:PUBLISH
X-WR-CALNAME:ERTICO Newsroom
X-ORIGINAL-URL:https://erticonetwork.com
X-WR-CALDESC:Events for ERTICO Newsroom
REFRESH-INTERVAL;VALUE=DURATION:PT1H
X-Robots-Tag:noindex
X-PUBLISHED-TTL:PT1H
BEGIN:VTIMEZONE
TZID:Europe/Brussels
BEGIN:DAYLIGHT
TZOFFSETFROM:+0100
TZOFFSETTO:+0200
TZNAME:CEST
DTSTART:20160327T010000
END:DAYLIGHT
BEGIN:STANDARD
TZOFFSETFROM:+0200
TZOFFSETTO:+0100
TZNAME:CET
DTSTART:20161030T010000
END:STANDARD
END:VTIMEZONE
BEGIN:VEVENT
DTSTART;VALUE=DATE:20160202
DTEND;VALUE=DATE:20160203
DTSTAMP:20260423T115011
CREATED:20160115T093039Z
LAST-MODIFIED:20160115T093416Z
UID:10011386-1454371200-1454457599@erticonetwork.com
SUMMARY:Wireless dynamic charging for Fully Electric Vehicles: Challenges & Concepts
DESCRIPTION:  \nOne-day conference on Tuesday 2 February 2016\n ERTICO offices\, Blue Tower\, 326 avenue Louise\, Brussels \nThe 25 partners of the FABRIC project (www.fabric-project.eu) are pleased to invite you to a One-day Conference highlighting the different aspects of FEV (Fully Electric Vehicle) dynamic charging.\n\nJoin us in Brussels and… \n\nDiscover the concept of wireless charging technology for road vehicles and its potential to facilitate a shift from petrol and diesel to electric vehicles.\nLearn about the different ICT tools and requirements for robust\, efficient and user-friendly charging of vehicles.\nSee what lessons have been learned from the development of wireless dynamic or stationary charging prototypes.\nFind out more about the related policies and standardisation efforts.\nDiscuss  the opportunities\, enablers and barriers for market deployment.\nNetwork with project partners and other leading experts in the area of electro-mobility.\n\nParticipation is free but registration is required before 20 January 2016. \nMore information and registration \nWe will be very pleased to welcome you to the FABRIC Conference! \n \n\n\n\n\n\n\n\n\n\n\n\n                        \n\n\n\n\n\n\n                        Contact!\nMrs. Evi Brousta\nInstitute of Communications and Computer Systems (ICCS)\np.brousta@iccs.gr
URL:https://erticonetwork.com/event/wireless-dynamic-charging-for-fully-electric-vehicles-challenges-concepts/
LOCATION:ERTICO ITS Europe\, Brussels\, Belgium
CATEGORIES:ERTICO
GEO:50.8503396;4.3517103
END:VEVENT
END:VCALENDAR