BEGIN:VCALENDAR
VERSION:2.0
PRODID:-//ERTICO Newsroom - ECPv6.7.0//NONSGML v1.0//EN
CALSCALE:GREGORIAN
METHOD:PUBLISH
X-ORIGINAL-URL:https://erticonetwork.com
X-WR-CALDESC:Events for ERTICO Newsroom
REFRESH-INTERVAL;VALUE=DURATION:PT1H
X-Robots-Tag:noindex
X-PUBLISHED-TTL:PT1H
BEGIN:VTIMEZONE
TZID:Europe/Brussels
BEGIN:DAYLIGHT
TZOFFSETFROM:+0100
TZOFFSETTO:+0200
TZNAME:CEST
DTSTART:20160327T010000
END:DAYLIGHT
BEGIN:STANDARD
TZOFFSETFROM:+0200
TZOFFSETTO:+0100
TZNAME:CET
DTSTART:20161030T010000
END:STANDARD
END:VTIMEZONE
BEGIN:VEVENT
DTSTART;VALUE=DATE:20161019
DTEND;VALUE=DATE:20161022
DTSTAMP:20260422T200743
CREATED:20160525T093838Z
LAST-MODIFIED:20160525T093838Z
UID:10011436-1476835200-1477094399@erticonetwork.com
SUMMARY:Singapore International Transport Congress and Exhibition 2016
DESCRIPTION:ITS Singapore is co-organising the Singapore International Transport Congress and Exhibition (SITCE)\, together with LTA and UITP. It will be held from 19-21 October 2016. The theme for this year’s SITCE is “Innovating Transport for Liveable Cities” and it would be held at Suntec Singapore. Attached please find the event brochure and the partners prospectus. \nThe SITCE 2016 will focus on innovative solutions for urban transport systems and will bring together authorities\, policy-makers\, urban planners\, transport operators as well as solution providers. There will be meaningful discussion of innovative solutions for issues and challenges faced by all in the business of urban transport. \nThe event comprises of a trade exhibition\, a congress\, technical visits and plenty of networking opportunities. The organisers and ITS Singapore has worked closely to provide a special rate for ITS ERTICO members to participate in this event. \nMore information
URL:https://erticonetwork.com/event/singapore-international-transport-congress-exhibition-2016/
LOCATION:Unnamed Venue\, Singapore\, Singapore
CATEGORIES:Policy & Strategy
GEO:1.3553794;103.8677444
END:VEVENT
END:VCALENDAR