BEGIN:VCALENDAR
VERSION:2.0
PRODID:-//ERTICO Newsroom - ECPv6.7.0//NONSGML v1.0//EN
CALSCALE:GREGORIAN
METHOD:PUBLISH
X-WR-CALNAME:ERTICO Newsroom
X-ORIGINAL-URL:https://erticonetwork.com
X-WR-CALDESC:Events for ERTICO Newsroom
REFRESH-INTERVAL;VALUE=DURATION:PT1H
X-Robots-Tag:noindex
X-PUBLISHED-TTL:PT1H
BEGIN:VTIMEZONE
TZID:Europe/Brussels
BEGIN:DAYLIGHT
TZOFFSETFROM:+0100
TZOFFSETTO:+0200
TZNAME:CEST
DTSTART:20160327T010000
END:DAYLIGHT
BEGIN:STANDARD
TZOFFSETFROM:+0200
TZOFFSETTO:+0100
TZNAME:CET
DTSTART:20161030T010000
END:STANDARD
END:VTIMEZONE
BEGIN:VEVENT
DTSTART;VALUE=DATE:20160720
DTEND;VALUE=DATE:20160721
DTSTAMP:20260422T131058
CREATED:20160708T131905Z
LAST-MODIFIED:20160708T131905Z
UID:10011444-1468972800-1469059199@erticonetwork.com
SUMMARY:Workshop: "Challenges for implementing sustainable City Logistics"
DESCRIPTION:More information
URL:https://erticonetwork.com/event/workshop-challenges-implementing-sustainable-city-logistics/
LOCATION:Unnamed Venue\, Graz\, Austria
CATEGORIES:Smart ITS
GEO:47.070714;15.439504
END:VEVENT
END:VCALENDAR