BEGIN:VCALENDAR
VERSION:2.0
PRODID:-//ERTICO Newsroom - ECPv6.7.0//NONSGML v1.0//EN
CALSCALE:GREGORIAN
METHOD:PUBLISH
X-ORIGINAL-URL:https://erticonetwork.com
X-WR-CALDESC:Events for ERTICO Newsroom
REFRESH-INTERVAL;VALUE=DURATION:PT1H
X-Robots-Tag:noindex
X-PUBLISHED-TTL:PT1H
BEGIN:VTIMEZONE
TZID:Europe/Brussels
BEGIN:DAYLIGHT
TZOFFSETFROM:+0100
TZOFFSETTO:+0200
TZNAME:CEST
DTSTART:20150329T010000
END:DAYLIGHT
BEGIN:STANDARD
TZOFFSETFROM:+0200
TZOFFSETTO:+0100
TZNAME:CET
DTSTART:20151025T010000
END:STANDARD
BEGIN:DAYLIGHT
TZOFFSETFROM:+0100
TZOFFSETTO:+0200
TZNAME:CEST
DTSTART:20160327T010000
END:DAYLIGHT
BEGIN:STANDARD
TZOFFSETFROM:+0200
TZOFFSETTO:+0100
TZNAME:CET
DTSTART:20161030T010000
END:STANDARD
BEGIN:DAYLIGHT
TZOFFSETFROM:+0100
TZOFFSETTO:+0200
TZNAME:CEST
DTSTART:20170326T010000
END:DAYLIGHT
BEGIN:STANDARD
TZOFFSETFROM:+0200
TZOFFSETTO:+0100
TZNAME:CET
DTSTART:20171029T010000
END:STANDARD
BEGIN:DAYLIGHT
TZOFFSETFROM:+0100
TZOFFSETTO:+0200
TZNAME:CEST
DTSTART:20180325T010000
END:DAYLIGHT
BEGIN:STANDARD
TZOFFSETFROM:+0200
TZOFFSETTO:+0100
TZNAME:CET
DTSTART:20181028T010000
END:STANDARD
BEGIN:DAYLIGHT
TZOFFSETFROM:+0100
TZOFFSETTO:+0200
TZNAME:CEST
DTSTART:20190331T010000
END:DAYLIGHT
BEGIN:STANDARD
TZOFFSETFROM:+0200
TZOFFSETTO:+0100
TZNAME:CET
DTSTART:20191027T010000
END:STANDARD
BEGIN:DAYLIGHT
TZOFFSETFROM:+0100
TZOFFSETTO:+0200
TZNAME:CEST
DTSTART:20200329T010000
END:DAYLIGHT
BEGIN:STANDARD
TZOFFSETFROM:+0200
TZOFFSETTO:+0100
TZNAME:CET
DTSTART:20201025T010000
END:STANDARD
BEGIN:DAYLIGHT
TZOFFSETFROM:+0100
TZOFFSETTO:+0200
TZNAME:CEST
DTSTART:20210328T010000
END:DAYLIGHT
BEGIN:STANDARD
TZOFFSETFROM:+0200
TZOFFSETTO:+0100
TZNAME:CET
DTSTART:20211031T010000
END:STANDARD
BEGIN:DAYLIGHT
TZOFFSETFROM:+0100
TZOFFSETTO:+0200
TZNAME:CEST
DTSTART:20220327T010000
END:DAYLIGHT
BEGIN:STANDARD
TZOFFSETFROM:+0200
TZOFFSETTO:+0100
TZNAME:CET
DTSTART:20221030T010000
END:STANDARD
BEGIN:DAYLIGHT
TZOFFSETFROM:+0100
TZOFFSETTO:+0200
TZNAME:CEST
DTSTART:20230326T010000
END:DAYLIGHT
BEGIN:STANDARD
TZOFFSETFROM:+0200
TZOFFSETTO:+0100
TZNAME:CET
DTSTART:20231029T010000
END:STANDARD
BEGIN:DAYLIGHT
TZOFFSETFROM:+0100
TZOFFSETTO:+0200
TZNAME:CEST
DTSTART:20240331T010000
END:DAYLIGHT
BEGIN:STANDARD
TZOFFSETFROM:+0200
TZOFFSETTO:+0100
TZNAME:CET
DTSTART:20241027T010000
END:STANDARD
BEGIN:DAYLIGHT
TZOFFSETFROM:+0100
TZOFFSETTO:+0200
TZNAME:CEST
DTSTART:20250330T010000
END:DAYLIGHT
BEGIN:STANDARD
TZOFFSETFROM:+0200
TZOFFSETTO:+0100
TZNAME:CET
DTSTART:20251026T010000
END:STANDARD
END:VTIMEZONE
BEGIN:VEVENT
DTSTART;TZID=Europe/Brussels:20250311T183000
DTEND;TZID=Europe/Brussels:20250311T203000
DTSTAMP:20260423T205237
CREATED:20250211T135514Z
LAST-MODIFIED:20250211T135514Z
UID:10012001-1741717800-1741725000@erticonetwork.com
SUMMARY:Moving Beyond Manels: Addressing Gender Inequality in the ITS Industry
DESCRIPTION:Following International Women’s Day on 8th March\, ERTICO – ITS Europe is organising an exclusive panel discussion ‘Moving Beyond Manels: Addressing Gender Inequality in the ITS Industry‘ on Tuesday 11th March from 18:30 – 20:30 at The Nine in Brussels. This event will raise awareness of gender imbalance in the transport and mobility sectors\, explore challenges and opportunities\, and highlight actionable solutions. A networking reception will follow. \nAs part of our commitment to fostering diversity\, ERTICO is actively working to address the lack of female representation and visibility at ITS Congresses and across the industry. This event is a key milestone in driving change\, bringing together female professionals and industry leaders to share insights and expertise. \nSeats are limited to>50 attendees: Register here to secure your place.  \n\nTake this opportunity to continue the conversation at the 16th ITS European Congress in Seville\, 19-21 May. The full programme and registrations will be opening soon. 
URL:https://erticonetwork.com/event/moving-beyond-manels-addressing-gender-inequality-in-the-its-industry/
LOCATION:The Nine\, Rue Archimède 69\, Brussels\, 1000\, Belgium
ATTACH;FMTTYPE=image/jpeg:https://erticonetwork.com/wp-content/uploads/2025/02/Women-in-ITS-1000x667-1.jpg
END:VEVENT
BEGIN:VEVENT
DTSTART;VALUE=DATE:20151021
DTEND;VALUE=DATE:20151022
DTSTAMP:20260423T205237
CREATED:20140912T095246Z
LAST-MODIFIED:20150901T095111Z
UID:10011170-1445385600-1445471999@erticonetwork.com
SUMMARY:iMobility Forum Plenary meeting
DESCRIPTION:  \nThe 6th  iMobility Forum Plenary Meeting will be held on Wednesday\, 21 October at the Diamant Conference Centre\, Brussels under the theme ‘Automation: Impact for Vehicles\, Infrastructure and Users‘. \nAbout the Topic \nThe iMobility Forum is working towards safe\, smart and clean road mobility via the large-scale deployment of intelligent vehicle and infrastructure systems in Europe in the context of the Digital Agenda for Europe\, EU ITS Action Plan and ITS Directive. The biannual iMobility Forum Plenary Meeting is the opportunity for all stakeholders involved in intelligent mobility to get together\, and learn about and discuss the progress and achievements of the iMobility Forum. \nEmerging vehicle solutions have the potential to transform travel experiences for end-users on the one hand and freight transportation on the other hand. The role of transport data and the trend towards automation will be discussed from diverse perspectives (i.e. users\, suppliers\, OEMs\, transport/freight operators\, authorities). Connectivity and automation\, is one of the core topics in order to maximise benefits for the transport system. The road to fully-automated cars\, however\, is likely to be long and beset with concerns about legislation\, data sharing\, HMI\, safety\, and liability. The outcome of the panel discussions will feed into the on-going work of the Automation WG of the iMobility Forum which is expected to deliver final recommendations for the deployment of Automation in the EU but also provide new research opportunities and priorities for Automation. \nRegistration \nTo register for the event\, please click through! \nAgenda \nTo view the latest version of the agenda please click through! \nFor more information on iMobility please check http://www.imobilitysupport.eu/ \n 
URL:https://erticonetwork.com/event/imobility-forum-plenary-meetings-2/
LOCATION:Diamant\, Boulevard A. Reyerslaan 80 \, Brussels\, 1030\, Belgium
CATEGORIES:ERTICO
ATTACH;FMTTYPE=image/gif:https://erticonetwork.com/wp-content/uploads/2014/09/images_i-MobilityForum-Logo.gif
GEO:50.8625502;4.37966
X-APPLE-STRUCTURED-LOCATION;VALUE=URI;X-ADDRESS=Diamant Boulevard A. Reyerslaan 80  Brussels 1030 Belgium;X-APPLE-RADIUS=500;X-TITLE=Boulevard A. Reyerslaan 80:geo:4.37966,50.8625502
END:VEVENT
END:VCALENDAR