BEGIN:VCALENDAR
VERSION:2.0
PRODID:-//ERTICO Newsroom - ECPv6.7.0//NONSGML v1.0//EN
CALSCALE:GREGORIAN
METHOD:PUBLISH
X-ORIGINAL-URL:https://erticonetwork.com
X-WR-CALDESC:Events for ERTICO Newsroom
REFRESH-INTERVAL;VALUE=DURATION:PT1H
X-Robots-Tag:noindex
X-PUBLISHED-TTL:PT1H
BEGIN:VTIMEZONE
TZID:Europe/Brussels
BEGIN:DAYLIGHT
TZOFFSETFROM:+0100
TZOFFSETTO:+0200
TZNAME:CEST
DTSTART:20130331T010000
END:DAYLIGHT
BEGIN:STANDARD
TZOFFSETFROM:+0200
TZOFFSETTO:+0100
TZNAME:CET
DTSTART:20131027T010000
END:STANDARD
END:VTIMEZONE
BEGIN:VEVENT
DTSTART;TZID=Europe/Brussels:20130909T090000
DTEND;TZID=Europe/Brussels:20130913T140000
DTSTAMP:20260424T064816
CREATED:20130611T145129Z
LAST-MODIFIED:20130611T145129Z
UID:10010884-1378717200-1379080800@erticonetwork.com
SUMMARY:2nd eCall Testfest
DESCRIPTION:ERTICO and ETSI\, supported by CETECOM and the HeERO project\, kindlly invite you to join the second eCall Testfest in Essen\, Germany\, from the 09 to the 13 September. \nThe week-long event is dedicated to interoperability testing\, and is designed for  \n\neCall In-vehicle system vendors\nPSAP systems vendors\n\nAll participants will get the opportunity to test their implementations with all other vendors during IVS/PSAP test sessions. \nParticipants should confirm their registration by completing the questionnaire (here) and send it to Sébastien Mure \nParticipants fees will apply per company\, to cover for the specific technical equipments. They will be calculated based on the number of participants but shall not exceed 500 EUR per company. \nAll participants will be requested to sign a Non-disclosure agreement. \n***   Registration closed   *** \nAccomodation \nParticipants are advised to book their accommodation in one of the recommended hotels:List of hotels
URL:https://erticonetwork.com/event/2nd-ecall-testfest/
LOCATION:40\, 40
CATEGORIES:ERTICO
END:VEVENT
END:VCALENDAR