BEGIN:VCALENDAR
VERSION:2.0
PRODID:-//ERTICO Newsroom - ECPv6.7.0//NONSGML v1.0//EN
CALSCALE:GREGORIAN
METHOD:PUBLISH
X-WR-CALNAME:ERTICO Newsroom
X-ORIGINAL-URL:https://erticonetwork.com
X-WR-CALDESC:Events for ERTICO Newsroom
REFRESH-INTERVAL;VALUE=DURATION:PT1H
X-Robots-Tag:noindex
X-PUBLISHED-TTL:PT1H
BEGIN:VTIMEZONE
TZID:Europe/Brussels
BEGIN:DAYLIGHT
TZOFFSETFROM:+0100
TZOFFSETTO:+0200
TZNAME:CEST
DTSTART:20250330T010000
END:DAYLIGHT
BEGIN:STANDARD
TZOFFSETFROM:+0200
TZOFFSETTO:+0100
TZNAME:CET
DTSTART:20251026T010000
END:STANDARD
END:VTIMEZONE
BEGIN:VEVENT
DTSTART;TZID=Europe/Brussels:20250527T100000
DTEND;TZID=Europe/Brussels:20250527T233000
DTSTAMP:20260423T013031
CREATED:20250417T091757Z
LAST-MODIFIED:20250417T091757Z
UID:10012012-1748340000-1748388600@erticonetwork.com
SUMMARY:ZEV-UP webinar on ultracompact BEVs and battery swapping systems for improved urban mobility
DESCRIPTION:As coordinator of the ZEV-UP project\, ERTICO is pleased to invite you to the project’s first webinar: “Small vehicles\, Big impact: Exploring ultracompact BEVs and battery swapping for smarter and efficient urban mobility”\, taking place on 27 May 2025 from 10:00 to 11:30 CEST. \nThe webinar will explore how swappable battery technology can enhance the flexibility and efficiency of small battery electric vehicles (BEVs)\, helping to meet urban mobility needs while addressing constraints such as limited vehicle size and battery capacity. ZEV-UP is developing a frugal\, modular EV prototype to improve EV technology in vehicle design and charging solutions. With perspectives from ZEV-UP partners and external experts\, the webinar will present the project’s concept of swappable batteries and will examine future market trends\, technological solutions\, and regulatory developments. \nDon’t miss this opportunity to gain insights into the role of battery swapping in the future of electromobility! \nMore information on the agenda is available on the ZEV-UP website. \nRegister now to take part in the discussion! \nRegister here
URL:https://erticonetwork.com/event/zev-up-webinar-on-ultracompact-bevs-and-battery-swapping-systems-for-improved-urban-mobility/
CATEGORIES:Clean ITS,Urban Mobility
ATTACH;FMTTYPE=image/png:https://erticonetwork.com/wp-content/uploads/2025/04/ZEV-UP-webinar-swappable-battery.png
END:VEVENT
END:VCALENDAR