BEGIN:VCALENDAR
VERSION:2.0
PRODID:-//ERTICO Newsroom - ECPv6.7.0//NONSGML v1.0//EN
CALSCALE:GREGORIAN
METHOD:PUBLISH
X-WR-CALNAME:ERTICO Newsroom
X-ORIGINAL-URL:https://erticonetwork.com
X-WR-CALDESC:Events for ERTICO Newsroom
REFRESH-INTERVAL;VALUE=DURATION:PT1H
X-Robots-Tag:noindex
X-PUBLISHED-TTL:PT1H
BEGIN:VTIMEZONE
TZID:Europe/Brussels
BEGIN:DAYLIGHT
TZOFFSETFROM:+0100
TZOFFSETTO:+0200
TZNAME:CEST
DTSTART:20190331T010000
END:DAYLIGHT
BEGIN:STANDARD
TZOFFSETFROM:+0200
TZOFFSETTO:+0100
TZNAME:CET
DTSTART:20191027T010000
END:STANDARD
END:VTIMEZONE
BEGIN:VEVENT
DTSTART;VALUE=DATE:20190122
DTEND;VALUE=DATE:20190123
DTSTAMP:20260421T024724
CREATED:20190103T103942Z
LAST-MODIFIED:20190103T103942Z
UID:10011646-1548115200-1548201599@erticonetwork.com
SUMMARY:Next steps for intelligent mobility and developing a smart transport system
DESCRIPTION:This seminar will consider the next steps for developing a smart transport system in the UK. \nIt will be an opportunity to assess what steps might need to be taken to ensure that the UK becomes a world leader in the movement of people\, goods and services\, in the context of the Government’s Future of Mobility Grand Challenge laid out in the Industrial Strategy. \nFurther sessions will discuss key measures from the Government’s urban mobility strategy expected to be published later this year\, as well as potential legal challenges to autonomous vehicles\, priorities for attracting investment and how best to encourage innovation in the mobility sector. \nDelegates will also discuss opportunities for supporting the electrification of road vehicles\, developing rail infrastructure to improve connectivity and providing Mobility as a Service. \n\n\n\n\n\nWebsite:\n\nWestminster Energy\, Environment & Transport Forum
URL:https://erticonetwork.com/event/next-steps-for-intelligent-mobility-and-developing-a-smart-transport-system/
LOCATION:London\, London\, United Kingdom
ATTACH;FMTTYPE=image/jpeg:https://erticonetwork.com/wp-content/uploads/2018/03/2017_Car-with-features-e1519981678177.jpg
END:VEVENT
END:VCALENDAR