BEGIN:VCALENDAR
VERSION:2.0
PRODID:-//ERTICO Newsroom - ECPv6.7.0//NONSGML v1.0//EN
CALSCALE:GREGORIAN
METHOD:PUBLISH
X-WR-CALNAME:ERTICO Newsroom
X-ORIGINAL-URL:https://erticonetwork.com
X-WR-CALDESC:Events for ERTICO Newsroom
REFRESH-INTERVAL;VALUE=DURATION:PT1H
X-Robots-Tag:noindex
X-PUBLISHED-TTL:PT1H
BEGIN:VTIMEZONE
TZID:Europe/Brussels
BEGIN:DAYLIGHT
TZOFFSETFROM:+0100
TZOFFSETTO:+0200
TZNAME:CEST
DTSTART:20180325T010000
END:DAYLIGHT
BEGIN:STANDARD
TZOFFSETFROM:+0200
TZOFFSETTO:+0100
TZNAME:CET
DTSTART:20181028T010000
END:STANDARD
END:VTIMEZONE
BEGIN:VEVENT
DTSTART;VALUE=DATE:20181217
DTEND;VALUE=DATE:20181218
DTSTAMP:20260424T092553
CREATED:20181022T083000Z
LAST-MODIFIED:20181022T083000Z
UID:10011631-1545004800-1545091199@erticonetwork.com
SUMMARY:Multimodal sustainable transport - which role for the internalisation of external costs?
DESCRIPTION:European Commissioner for Transport Violeta Bulc and the Directorate-General for Transport and Mobility (DG MOVE) are inviting transport stakeholders to discuss first insights from a study on sustainable transport infrastructure charging and the internalisation of transport externalities. \nThe conference will take place at the EU conference centre Albert Borschette\, Rue Froissart 36\, 1040 Brussels-Etterbeek on 17 December 2018. \nThe event is organised as a part of the 2018 Year of Multimodality which Commissioner Bulc has called for to promote the functioning of the transport sector as a fully integrated system\, making better use of existing capacities in all transport modes\, and improving efficiency of the logistics chains. \nDuring the conference key sector experts will share their views on setting the right price for transport and there will be opportunities for you to discuss and understand the external costs across transport modes; the extent to which the “user pays” and “polluter pays” are implemented in the EU for the different modes; how the ‘playing-field’ can be balanced and how to better manage the impact of externalities. \nClick here fore more information.
URL:https://erticonetwork.com/event/multimodal-sustainable-transport-which-role-for-the-internalisation-of-external-costs/
LOCATION:Rue Froissart 36\, 1040 Brussels-Etterbeek
ATTACH;FMTTYPE=image/png:https://erticonetwork.com/wp-content/uploads/2018/10/multimod.png
END:VEVENT
END:VCALENDAR