BEGIN:VCALENDAR
VERSION:2.0
PRODID:-//ERTICO Newsroom - ECPv6.7.0//NONSGML v1.0//EN
CALSCALE:GREGORIAN
METHOD:PUBLISH
X-WR-CALNAME:ERTICO Newsroom
X-ORIGINAL-URL:https://erticonetwork.com
X-WR-CALDESC:Events for ERTICO Newsroom
REFRESH-INTERVAL;VALUE=DURATION:PT1H
X-Robots-Tag:noindex
X-PUBLISHED-TTL:PT1H
BEGIN:VTIMEZONE
TZID:Europe/Brussels
BEGIN:DAYLIGHT
TZOFFSETFROM:+0100
TZOFFSETTO:+0200
TZNAME:CEST
DTSTART:20240331T010000
END:DAYLIGHT
BEGIN:STANDARD
TZOFFSETFROM:+0200
TZOFFSETTO:+0100
TZNAME:CET
DTSTART:20241027T010000
END:STANDARD
END:VTIMEZONE
BEGIN:VEVENT
DTSTART;TZID=Europe/Brussels:20240530T190000
DTEND;TZID=Europe/Brussels:20240531T170000
DTSTAMP:20260422T050428
CREATED:20240422T140558Z
LAST-MODIFIED:20240422T140558Z
UID:10011962-1717095600-1717174800@erticonetwork.com
SUMMARY:SHOW Autonomous Mobility Day Conference - Crest demo site
DESCRIPTION:The Autonomous Mobility Day Conference\, organised by the Horizon 2020 SHOW Project in cooperation with BETI\, serves as a platform for stakeholders from diverse backgrounds to discuss and share their experiences on the latest advancements\, challenges\, and opportunities in CCAM operations in public transport. \nFor public transport operators\, authorities\, cities\, and regions interested in CCAM\, this conference is a fantastic opportunity to gain in-depth knowledge and insights into autonomous vehicle services. \nThe conference will include: \nCase Studies from the SHOW Project: Discover real-world case studies showcasing successful implementations of autonomous vehicle services. Learn from the experiences of cities\, regions\, and public transportation agencies that have embraced CCAM solutions\, offering inspiration and practical insights for your own initiatives. \nRoundtable Discussions: Engage in insightful roundtable discussions where public transport operators and authorities\, local and regional administrations\, equipment manufacturers\, and other stakeholders share their experiences and expertise. Explore best practices\, challenges\, and strategies for integrating autonomous vehicles into public transportation systems \nCCAM Pilot Experience: Participants will have the opportunity to experience SHOW’s latest pilot site at Crest\, where autonomous vehicles are providing an innovative public transport service linking rural and urban areas. \nRegister now on the SHOW website\, where you can also find a full programme and practical information for the event.
URL:https://erticonetwork.com/event/show-autonomous-mobility-day-conference-crest-demo-site/
LOCATION:Valence & Crest\, France
ATTACH;FMTTYPE=image/webp:https://erticonetwork.com/wp-content/uploads/2024/04/SHOW-Crest-event.webp
END:VEVENT
END:VCALENDAR